BEGIN:VCALENDAR
VERSION:2.0
PRODID:-//ChamberMaster//Event Calendar 2.0//EN
METHOD:PUBLISH
X-PUBLISHED-TTL:P3D
REFRESH-INTERVAL:P3D
CALSCALE:GREGORIAN
BEGIN:VEVENT
DTSTART:20220112T193000Z
DTEND:20220112T210000Z
X-MICROSOFT-CDO-ALLDAYEVENT:FALSE
SUMMARY:Lunch Mob at Dave & Busters
DESCRIPTION:Join the Fairfield-Suisun Chamber of Commerce for an afternoon of lunch\, networking\, and supporting our local restaurants.\n\nThis month we will be having our networking lunch at Dave & Buster's.\n\nFree to attend\, but pay your own tab. RSVP Recommended.
X-ALT-DESC;FMTTYPE=text/html:<div class="kvgmc6g5 cxmmr5t8 oygrvhab hcukyx3x c1et5uql" style="overflow-wrap: break-word\; margin: 0px\; font-family: &quot\;Segoe UI Historic&quot\;\, &quot\;Segoe UI&quot\;\, Helvetica\, Arial\, sans-serif\; color: rgb(5\, 5\, 5)\; font-size: 15px\; background-color: rgb(255\, 255\, 255)\; animation-name: none !important\; transition-property: none !important\;">Join the Fairfield-Suisun Chamber of Commerce for an afternoon of lunch\, networking\, and supporting our local restaurants.<br style="animation-name: none !important\; transition-property: none !important\;" />\nThis month we will be having our networking lunch at Dave &amp\; Buster&#39\;s.</div>\n\n<div class="cxmmr5t8 oygrvhab hcukyx3x c1et5uql o9v6fnle" style="overflow-wrap: break-word\; margin: 0.5em 0px 0px\; font-family: &quot\;Segoe UI Historic&quot\;\, &quot\;Segoe UI&quot\;\, Helvetica\, Arial\, sans-serif\; color: rgb(5\, 5\, 5)\; font-size: 15px\; background-color: rgb(255\, 255\, 255)\; animation-name: none !important\; transition-property: none !important\;">Free to attend\, but pay your own tab. RSVP Recommended.</div>\n
LOCATION:1420 Travis Blvd\, Fairfield\, CA 94533
UID:e.1602.7529
SEQUENCE:3
DTSTAMP:20260422T083744Z
URL:https://business.fairfieldsuisunchamber.com/events/details/lunch-mob-at-dave-busters-7529
END:VEVENT

END:VCALENDAR
