BEGIN:VCALENDAR
VERSION:2.0
PRODID:-//ChamberMaster//Event Calendar 2.0//EN
METHOD:PUBLISH
X-PUBLISHED-TTL:P3D
REFRESH-INTERVAL:P3D
CALSCALE:GREGORIAN
BEGIN:VEVENT
DTSTART:20180721T210000Z
DTEND:20180722T000000Z
X-MICROSOFT-CDO-ALLDAYEVENT:FALSE
SUMMARY:"Major Minor" performing at Seven Artisans Winery
DESCRIPTION:Genre\n\nClassic rock\, soft rock\, country\n\nBand Members\n\nPhil Greene - Guitar\, keys\, lead vocals\n\nRick Whedbee - Bass\, lead vocals\n\nJeff Curtis - Keys\, guitar\, vocals\n\nGuyle Taber - Drums\, vocals\n\n \n\nAbout\n\nThis foursome of musical veterans were brought together to breathe life into the Major Minor band from decades ago in Solano County.\n\n\n\n$15/person   includes Entertainment & one glass "First Flight" Wine\n\nReservations Recommended for Choice Seating\n\nCall/Text: (707)330-3806 or Online: www.sevenartisanswinery.com/events\n\nEmail: sevenartisanswinery@gmail.com\n\n*No outside alcoholic beverages* - 21+ to purchase alcohol!
X-ALT-DESC;FMTTYPE=text/html:<strong><u>Genre</u></strong><br />\nClassic rock\, soft rock\, country<br />\n<strong><u>Band Members</u></strong><br />\nPhil Greene - Guitar\, keys\, lead vocals<br />\nRick Whedbee - Bass\, lead vocals<br />\nJeff Curtis - Keys\, guitar\, vocals<br />\nGuyle Taber - Drums\, vocals<br />\n&nbsp\;<br />\n<strong><u>About</u></strong><br />\nThis foursome of musical veterans were brought together to breathe life into the Major Minor band from decades ago in Solano County.<br />\n<br />\n$15/person &ndash\; includes Entertainment &amp\; one glass &ldquo\;First Flight&rdquo\; Wine<br />\nReservations Recommended for Choice Seating<br />\nCall/Text: (707)330-3806 or Online: www.sevenartisanswinery.com/events<br />\nEmail: sevenartisanswinery@gmail.com<br />\n*No outside alcoholic beverages* - 21+ to purchase alcohol!
LOCATION:Seven Artisans Winery 4341 Abernathy Road Fairfield\, CA 94534
UID:e.1602.6600
SEQUENCE:3
DTSTAMP:20260425T031425Z
URL:https://business.fairfieldsuisunchamber.com/events/details/major-minor-performing-at-seven-artisans-winery-07-21-2018-6600
END:VEVENT

END:VCALENDAR
