BEGIN:VCALENDAR
VERSION:2.0
PRODID:-//ChamberMaster//Event Calendar 2.0//EN
METHOD:PUBLISH
X-PUBLISHED-TTL:P3D
REFRESH-INTERVAL:P3D
CALSCALE:GREGORIAN
BEGIN:VEVENT
DTSTART:20180217T220000Z
DTEND:20180218T010000Z
X-MICROSOFT-CDO-ALLDAYEVENT:FALSE
SUMMARY:Matt Applin & The Midnite Band appearing at Seven Artisans Winery
DESCRIPTION:Matt Applin is a seasoned\, versatile entertainer with over 25 years' experience in the music and performance arena. His repertoire runs the gamut from R&B\, Motown\, Jazz\, Blues and Standards.\n\nHe is a charismatic singer with excellent range and a commanding stage presence as well as audience appeal. Matt has performed in numerous venues including weddings\, festivals\, county fairs\, parties and was the featured performer on the California Wine Ship in Vallejo for 18 months.  Matt is known throughout the Bay Area and Solano County for both his professionalism and his showmanship. When Matt performs the audience is guaranteed not just a good time but also a Night to Remember\n\n \n\nThe Midnite Band provides the beautiful music and backing power that allows Matt Applin's vocals to shine! These amazing musicians have the chemistry that comes only from years of performing together\, and they never miss a beat!\n\n Band Members\n\n Matt Applin - Singer\, Entertainer\, & Band Leader\n\n\n\nDion Duncan sets the time on the Drums\n\nJames "Jae-E" Earley lays down fat grooves on the Bass\n\nJohnny Ramos funks it up on the Guitar and Keyboards\n\nArchie White brings the smooth flavor on the Keyboards\n\n $15/person   includes Entertainment & one glass "First Flight" Wine\n\n\n\nReservations Recommended for Choice Seating\n\nCall/Text: (707)330-3806 or Online: www.sevenartisanswinery.com\n\nEmail: sevenartisanswinery@gmail.com\n\n*No outside alcoholic beverages* - 21+ to purchase alcohol!\n\n El Ajicito Food Truck on hand serving their version of delicious Peruvian-style Delights!
X-ALT-DESC;FMTTYPE=text/html:Matt Applin is a seasoned\, versatile entertainer with over 25 years&rsquo\; experience in the music and performance arena. His repertoire runs the gamut from R&amp\;B\, Motown\, Jazz\, Blues and Standards.<br />\nHe is a charismatic singer with excellent range and a commanding stage presence as well as audience appeal. Matt has performed in numerous venues including weddings\, festivals\, county fairs\, parties and was the featured performer on the California Wine Ship in Vallejo for 18 months.&nbsp\; Matt is known throughout the Bay Area and Solano County for both his professionalism and his showmanship. When Matt performs the audience is guaranteed not just a good time but also a Night to Remember<br />\n&nbsp\;<br />\nThe Midnite Band provides the beautiful music and backing power that allows Matt Applin&#39\;s vocals to shine! These amazing musicians have the chemistry that comes only from years of performing together\, and they never miss a beat!<br />\n&nbsp\;<strong><u>Band Members</u></strong><br />\n&nbsp\;Matt Applin - Singer\, Entertainer\, &amp\; Band Leader<br />\n<br />\nDion Duncan sets the time on the Drums<br />\nJames &quot\;Jae-E&quot\; Earley lays down fat grooves on the Bass<br />\nJohnny Ramos funks it up on the Guitar and Keyboards<br />\nArchie White brings the smooth flavor on the Keyboards<br />\n&nbsp\;$15/person &ndash\; includes Entertainment &amp\; one glass &ldquo\;First Flight&rdquo\; Wine<br />\n<br />\nReservations Recommended for Choice Seating<br />\nCall/Text: (707)330-3806 or Online: www.sevenartisanswinery.com<br />\nEmail: sevenartisanswinery@gmail.com<br />\n*No outside alcoholic beverages* - 21+ to purchase alcohol!<br />\n&nbsp\;El Ajicito Food Truck on hand serving their version of delicious Peruvian-style Delights!<br />\n&nbsp\;
LOCATION:Seven Artisans Winery 4341 Abernathy Road Fairfield\, CA 94534 (707) 330-3806
UID:e.1602.4126
SEQUENCE:3
DTSTAMP:20260425T111633Z
URL:https://business.fairfieldsuisunchamber.com/events/details/matt-applin-the-midnite-band-appearing-at-seven-artisans-winery-4126
END:VEVENT

END:VCALENDAR
