BEGIN:VCALENDAR
VERSION:2.0
PRODID:-//ChamberMaster//Event Calendar 2.0//EN
METHOD:PUBLISH
X-PUBLISHED-TTL:P3D
REFRESH-INTERVAL:P3D
CALSCALE:GREGORIAN
BEGIN:VEVENT
DTSTART:20170701T210000Z
DTEND:20170702T000000Z
X-MICROSOFT-CDO-ALLDAYEVENT:FALSE
SUMMARY:Matt Applin & The Midnite band return to Seven Artisans Winery
DESCRIPTION:Saturday\, July1st \n\n2:00 - 5:00 PM\n\n \n\nSeven Artisans Winery presents:\n\n \n\nThe sultry R & B crooning of\n\n \n\nMatt Applin & \n\nThe Midnite Band\n\n \n\n\n \n\nFood available from \n\n\nEl Ajicito Peruvian Street Food\n\n \n\n\n$10 cover includes a glass of First Flight wine\n\n \n\n\nNo outside alcohol\, please\n\n \n\nJoin us for great music\, dancing\, \n\ntasty wine\, cuisine and lots of fun\n\n \n\nat\n\n \n\nSeven Artisans Winery\n\n4341 Abernathy Road\n\nFairfield/Suisun Valley\n\n(707) 330-3806\n\n \n\nWe'll see you on the "lawn"
X-ALT-DESC;FMTTYPE=text/html:<div>\n<div style="text-align: center\;"><span style="font-size:22px"><strong><em>Saturday\,&nbsp\;July1st&nbsp\;</em></strong></span></div>\n\n<div style="text-align: center\;"><span style="font-size:22px"><em><strong>2:00 - 5:00 PM</strong></em></span></div>\n\n<div style="text-align: center\;">&nbsp\;</div>\n\n<div style="text-align: center\;"><span style="font-size:22px"><strong>Seven Artisans Winery presents:</strong></span></div>\n\n<div style="text-align: center\;">&nbsp\;</div>\n\n<div style="text-align: center\;"><span style="font-size:22px"><strong>The&nbsp\;sultry R &amp\; B crooning of</strong></span></div>\n\n<div style="text-align: center\;">&nbsp\;</div>\n\n<div style="text-align: center\;"><span style="font-size:22px"><strong><em>Matt Applin &amp\; </em></strong></span></div>\n\n<div style="text-align: center\;"><span style="font-size:22px"><strong><em>The Midnite Band</em></strong></span></div>\n\n<div style="text-align: center\;">&nbsp\;</div>\n\n<div>\n<div style="text-align: center\;">&nbsp\;</div>\n\n<div style="text-align: center\;"><span style="font-size:22px"><strong>Food available from </strong></span></div>\n</div>\n\n<div style="text-align: center\;"><span style="font-size:22px"><strong>El Ajicito Peruvian Street Food</strong></span></div>\n\n<div style="text-align: center\;">&nbsp\;</div>\n\n<div>\n<div style="text-align: center\;"><span style="font-size:22px"><strong>$10 cover includes a glass of First Flight wine</strong></span></div>\n\n<div style="text-align: center\;">&nbsp\;</div>\n</div>\n\n<div style="text-align: center\;"><span style="font-size:22px"><strong>No outside&nbsp\;alcohol\, please</strong></span></div>\n\n<div style="text-align: center\;">&nbsp\;</div>\n\n<div style="text-align: center\;"><span style="font-size:22px"><strong><em>Join us for great music\, dancing\, </em></strong></span></div>\n\n<div style="text-align: center\;"><span style="font-size:22px"><strong><em>tasty wine\, cuisine&nbsp\;and </em></strong><strong><em>lots of fun</em></strong></span></div>\n\n<div style="text-align: center\;">&nbsp\;</div>\n\n<div style="text-align: center\;"><span style="font-size:22px"><strong>at</strong></span></div>\n\n<div style="text-align: center\;">&nbsp\;</div>\n\n<div style="text-align: center\;"><span style="font-size:22px"><strong>Seven Artisans Winery<br />\n4341 Abernathy Road<br />\nFairfield/Suisun Valley<br />\n(707) 330-3806</strong></span></div>\n\n<div style="text-align: center\;">&nbsp\;</div>\n\n<div style="text-align: center\;"><span style="font-size:22px"><em>We&#39\;ll see you on the &quot\;lawn&quot\;</em></span></div>\n\n<div>&nbsp\;</div>\n</div>\n
LOCATION:Seven Artisans Winery 4341 Abernathy Road Fairfield/Suisun Valley (707) 330-3806
UID:e.1602.3568
SEQUENCE:3
DTSTAMP:20260425T234635Z
URL:https://business.fairfieldsuisunchamber.com/events/details/matt-applin-the-midnite-band-return-to-seven-artisans-winery-3568
END:VEVENT

END:VCALENDAR
