BEGIN:VCALENDAR
VERSION:2.0
PRODID:-//ChamberMaster//Event Calendar 2.0//EN
METHOD:PUBLISH
X-PUBLISHED-TTL:P3D
REFRESH-INTERVAL:P3D
CALSCALE:GREGORIAN
BEGIN:VEVENT
DTSTART:20170517T190000Z
DTEND:20170517T200000Z
X-MICROSOFT-CDO-ALLDAYEVENT:FALSE
SUMMARY:Media Club -Engagement on Social Media
DESCRIPTION:Join us for our monthly\n\nMedia Club\n\n \n\nTopic: The Importance of Engagement on\n\nSocial Media\n\n\n\n \n\n                   Guest Speaker: Noel Herbert \n\n                                                           Revenue Uptrend Media
X-ALT-DESC;FMTTYPE=text/html:<div style="text-align: center\;"><br />\n<br background-color:="" font-size:="" style="color: rgb(51\, 51\, 51)\; font-family: sans-serif\, Arial\, Verdana\, " text-align:="" trebuchet="" />\n<strong background-color:="" font-size:="" style="color: rgb(51\, 51\, 51)\; font-family: sans-serif\, Arial\, Verdana\, " text-align:="" trebuchet=""><span style="font-size: 20px\;"><span style="font-size:36px\;">Join us for our monthly<br />\nMedia Club</span></span></strong></div>\n\n<div style="text-align: center\;">&nbsp\;</div>\n\n<div style="text-align: center\;"><span style="font-size:24px\;"><strong background-color:="" font-size:="" style="color: rgb(51\, 51\, 51)\; font-family: sans-serif\, Arial\, Verdana\, " text-align:="" trebuchet="">Topic: The Importance of Engagement on</strong></span></div>\n\n<div style="text-align: center\;"><strong background-color:="" font-size:="" style="color: rgb(51\, 51\, 51)\; font-family: sans-serif\, Arial\, Verdana\, " text-align:="" trebuchet=""><span style="font-size: 20px\;"><span style="font-size:24px\;">Social Media</span></span></strong><br />\n<br />\n&nbsp\;</div>\n\n<div>&nbsp\; &nbsp\; &nbsp\; &nbsp\; &nbsp\; &nbsp\; &nbsp\; &nbsp\; &nbsp\; &nbsp\;<strong background-color:="" font-size:="" style="color: rgb(51\, 51\, 51)\; font-family: sans-serif\, Arial\, Verdana\, " text-align:="" trebuchet=""><span style="font-size: 20px\;">Guest Speaker: Noel Herbert&nbsp\;</span></strong><br />\n&nbsp\; &nbsp\; &nbsp\; &nbsp\; &nbsp\; &nbsp\; &nbsp\; &nbsp\; &nbsp\; &nbsp\; &nbsp\; &nbsp\; &nbsp\; &nbsp\; &nbsp\; &nbsp\; &nbsp\; &nbsp\; &nbsp\; &nbsp\; &nbsp\; &nbsp\; &nbsp\; &nbsp\; &nbsp\; &nbsp\; &nbsp\; &nbsp\; &nbsp\;<span style="font-size:16px\;">&nbsp\;&nbsp\;<strong>R<strong>evenue</strong> Uptrend Media</strong></span></div>\n
LOCATION:Fairfield-Suisun Chamber of Commerce 1111 Webster Street Fairfield\, CA 94533
UID:e.1602.3467
SEQUENCE:3
DTSTAMP:20260426T024105Z
URL:https://business.fairfieldsuisunchamber.com/events/details/media-club-engagement-on-social-media-3467
END:VEVENT

END:VCALENDAR
