BEGIN:VCALENDAR
VERSION:2.0
PRODID:-//ChamberMaster//Event Calendar 2.0//EN
METHOD:PUBLISH
X-PUBLISHED-TTL:P3D
REFRESH-INTERVAL:P3D
CALSCALE:GREGORIAN
BEGIN:VEVENT
DTSTART:20170719T230000Z
DTEND:20170720T010000Z
X-MICROSOFT-CDO-ALLDAYEVENT:FALSE
SUMMARY:Media Club - CANCELED - iMovie for Desktop
DESCRIPTION:Canceled\n\n\n\nThis Month Class:  iMovie for Desktop \n\n \n\nJoin us for Wine\, Cheese and a good time! \n\n \n\nREMEMBER!!! This is a hands on workshop so bring your\n\nphone\, iPad\, and laptop when you come!
X-ALT-DESC;FMTTYPE=text/html:<div style="text-align: center\;">\n<div style="color: rgb(51\, 51\, 51)\; font-family: sans-serif\, Arial\, Verdana\, &quot\;Trebuchet MS&quot\;\; font-size: 13px\; text-align: center\;"><span style="font-size:28px\;"><span style="color:#FF0000\;"><span style="font-family: Helvetica\, Arial\, sans-serif\; background-color: rgb(255\, 255\, 255)\;"><strong>Canceled</strong></span></span></span><br />\n<br />\n<span style="color: rgb(29\, 33\, 41)\; font-family: Helvetica\, Arial\, sans-serif\; font-size: 14px\; background-color: rgb(255\, 255\, 255)\;"><span style="font-size:24px\;"><strong>This Month Class:&nbsp\;</strong></span></span><span style="font-size:24px\;"><span style="color: rgb(29\, 33\, 41)\; font-family: Helvetica\, Arial\, sans-serif\; text-align: start\; background-color: rgb(255\, 255\, 255)\;">&nbsp\;iMovie for Desktop&nbsp\;</span></span><br />\n&nbsp\;</div>\n\n<div style="color: rgb(51\, 51\, 51)\; font-family: sans-serif\, Arial\, Verdana\, &quot\;Trebuchet MS&quot\;\; font-size: 13px\; text-align: center\;"><span style="color: rgb(29\, 33\, 41)\; font-family: Helvetica\, Arial\, sans-serif\; font-size: 14px\; background-color: rgb(255\, 255\, 255)\;"><span style="font-size: 20px\;">Join us for Wine\, Cheese and a good time!&nbsp\;</span></span><br />\n&nbsp\;</div>\n\n<div style="color: rgb(51\, 51\, 51)\; font-family: sans-serif\, Arial\, Verdana\, &quot\;Trebuchet MS&quot\;\; font-size: 13px\; text-align: center\;"><span style="font-size: 20px\;"><span style="color: rgb(29\, 33\, 41)\; font-family: Helvetica\, Arial\, sans-serif\; background-color: rgb(255\, 255\, 255)\;"><strong>REMEMBER!!!</strong>&nbsp\;This is a hands on workshop so bring your<br />\nphone\, iPad\, and laptop when you come!&nbsp\;</span></span></div>\n</div>\n
LOCATION:Fairfield-Suisun Chamber of Commerce 1111 Webster Street Fairfield\, Ca 94533
UID:e.1602.3519
SEQUENCE:3
DTSTAMP:20260425T233250Z
URL:https://business.fairfieldsuisunchamber.com/events/details/media-club-imovie-for-desktop-3519
END:VEVENT

END:VCALENDAR
