BEGIN:VCALENDAR
VERSION:2.0
PRODID:-//ChamberMaster//Event Calendar 2.0//EN
METHOD:PUBLISH
X-PUBLISHED-TTL:P3D
REFRESH-INTERVAL:P3D
CALSCALE:GREGORIAN
BEGIN:VEVENT
DTSTART:20170621T230000Z
DTEND:20170622T010000Z
X-MICROSOFT-CDO-ALLDAYEVENT:FALSE
SUMMARY:Media Club - iMovie for Mobile Devices
DESCRIPTION:It's time to sign up for Media Club Summer Series!\n\n\n\nThis Month Class: iMovie for Mobile Devices\n\n \n\nJoin us for Wine\, Cheese and a good time! \n\n \n\nREMEMBER!!! This is a hands on workshop so bring your\n\nphone\, iPad\, and laptop when you come!
X-ALT-DESC;FMTTYPE=text/html:<div style="text-align: center\;"><br />\n<span style="color: rgb(29\, 33\, 41)\; font-family: Helvetica\, Arial\, sans-serif\; font-size: 14px\; background-color: rgb(255\, 255\, 255)\;"><span style="font-size:24px\;"><strong>It&#39\;s time to sign up for Media Club Summer Series!</strong></span><br />\n<br />\n<span style="font-size:24px\;"><strong>This Month Class:&nbsp\;</strong></span></span><span style="font-size:24px\;"><span style="color: rgb(29\, 33\, 41)\; font-family: Helvetica\, Arial\, sans-serif\;">iMovie</span></span><span style="color: rgb(29\, 33\, 41)\; font-family: Helvetica\, Arial\, sans-serif\; font-size: 14px\;"><span style="font-size:24px\;"> for Mobile Devices</span></span><br />\n&nbsp\;</div>\n\n<div style="text-align: center\;"><span style="color: rgb(29\, 33\, 41)\; font-family: Helvetica\, Arial\, sans-serif\; font-size: 14px\; background-color: rgb(255\, 255\, 255)\;"><span style="font-size:20px\;">Join us for Wine\, Cheese and a good time!&nbsp\;</span></span><br />\n&nbsp\;</div>\n\n<div style="text-align: center\;"><span style="font-size:20px\;"><span style="color: rgb(29\, 33\, 41)\; font-family: Helvetica\, Arial\, sans-serif\; background-color: rgb(255\, 255\, 255)\;"><strong>REMEMBER!!!</strong> This is a hands on workshop so bring your<br />\nphone\, iPad\, and laptop when you come!&nbsp\;</span></span></div>\n<br />\n&nbsp\;
LOCATION:Fairfield-Suisun Chamber of Commerce 1111 Webster Street Fairfield\, Ca 94533
UID:e.1602.3515
SEQUENCE:3
DTSTAMP:20260426T005536Z
URL:https://business.fairfieldsuisunchamber.com/events/details/media-club-imovie-for-mobile-devices-3515
END:VEVENT

END:VCALENDAR
