BEGIN:VCALENDAR
VERSION:2.0
PRODID:-//ChamberMaster//Event Calendar 2.0//EN
METHOD:PUBLISH
X-PUBLISHED-TTL:P3D
REFRESH-INTERVAL:P3D
CALSCALE:GREGORIAN
BEGIN:VEVENT
DTSTART;VALUE=DATE:20220517
DTEND;VALUE=DATE:20220531
TRANSP:TRANSPARENT
X-MICROSOFT-CDO-ALLDAYEVENT:TRUE
SUMMARY:Memorial Weekend Sales Event at Sunwise Fairfield Preowned Superstore
DESCRIPTION:If you're in the market for a pre-owned vehicle\, save big now through Memorial Day Monday at the Fair\, Fast and Friendly Sunwise Fairfield Pre-Owned Superstore! Our selection of cars\, trucks\, SUVs and crossovers is the best it's been in over two years. You'll find low\, upfront\, no-haggle\, market-based pricing. Lots of finance options too\, even if you're a first time buyer or have credit challenges. Shop online and find the vehicle that's just right for you at sunwisefairfield.com and then visit us now through Memorial Day Monday to save!  The Sunwise Fairfield Pre-Owned Superstore in the Fairfield Auto Mall.
X-ALT-DESC;FMTTYPE=text/html:<span style="font-family:times new roman">If you&rsquo\;re in the market for a pre-owned vehicle\, save big now through Memorial Day Monday at the Fair\, Fast and Friendly Sunwise Fairfield Pre-Owned Superstore! Our selection of cars\, trucks\, SUVs and crossovers is the best it&rsquo\;s been in over two years. You&rsquo\;ll find low\, upfront\, no-haggle\, market-based pricing. Lots of finance options too\, even if you&rsquo\;re a first time buyer or have credit challenges. Shop online and find the vehicle that&rsquo\;s just right for you at sunwisefairfield.com and then visit us now through Memorial Day Monday to save! &nbsp\;The Sunwise Fairfield Pre-Owned Superstore in the Fairfield Auto Mall.<span style="font-size:14.6667px">&nbsp\;</span></span>
LOCATION:Sunwise Fairfield Pre-Owned Superstore 2775 Auto Mall Parkway Fairfield\, CA 94533
UID:e.1602.7696
SEQUENCE:3
DTSTAMP:20260420T020942Z
URL:https://business.fairfieldsuisunchamber.com/events/details/memorial-weekend-sales-event-at-sunwise-fairfield-preowned-superstore-05-17-2022-7696
END:VEVENT

END:VCALENDAR
