BEGIN:VCALENDAR
VERSION:2.0
PRODID:-//ChamberMaster//Event Calendar 2.0//EN
METHOD:PUBLISH
X-PUBLISHED-TTL:P3D
REFRESH-INTERVAL:P3D
CALSCALE:GREGORIAN
BEGIN:VEVENT
DTSTART:20181026T003000Z
DTEND:20181026T013000Z
X-MICROSOFT-CDO-ALLDAYEVENT:FALSE
SUMMARY:Mortgage Seminar Hosted by Solano First Federal Credit Union
DESCRIPTION:
X-ALT-DESC;FMTTYPE=text/html:
LOCATION:Solano First Federal Credit Union 1000 Union Ave.\, Fairfield
UID:e.1602.6628
SEQUENCE:3
DTSTAMP:20260424T225241Z
URL:https://business.fairfieldsuisunchamber.com/events/details/mortgage-seminar-hosted-by-solano-first-federal-credit-union-6628
END:VEVENT

END:VCALENDAR
