BEGIN:VCALENDAR
VERSION:2.0
PRODID:-//ChamberMaster//Event Calendar 2.0//EN
METHOD:PUBLISH
X-PUBLISHED-TTL:P3D
REFRESH-INTERVAL:P3D
CALSCALE:GREGORIAN
BEGIN:VEVENT
DTSTART:20200618T180000Z
DTEND:20200618T190000Z
X-MICROSOFT-CDO-ALLDAYEVENT:FALSE
SUMMARY:Nail Salons\, Massage and Body Works Reopening Advisory Workshop
DESCRIPTION:Join the WDB & SBDC\, City of Fairfield\, CA - Government and the Fairfield Suisun Chamber of Commerce will be hosting a Nail Salons\, Massage & Body Works Reopening Advisory Workshop this Thursday (6/18) from 11AM - 12pm via Zoom. \n\n\n\nBelow is the link to register\, space is limited and please share with anyone interested to participate or businesses affected by COVID-19.\n\n\n\nWebinar Link:\n\nhttps://us02web.zoom.us/meeting/register/tZMrf-qrqTopHdbiAGzrMI6BQcdqpESlYUjc
X-ALT-DESC;FMTTYPE=text/html:Join the WDB &amp\; SBDC\, City of Fairfield\, CA - Government and the Fairfield Suisun Chamber of Commerce will be hosting a Nail Salons\, Massage &amp\; Body Works Reopening Advisory Workshop this Thursday (6/18) from 11AM - 12pm via Zoom.&nbsp\;<br />\n<br />\nBelow is the link to register\, space is limited and please share with anyone interested to participate or businesses affected by COVID-19.<br />\n<br />\nWebinar Link:<br />\n<a href="https://us02web.zoom.us/meeting/register/tZMrf-qrqTopHdbiAGzrMI6BQcdqpESlYUjc" target="_blank">https://us02web.zoom.us/meeting/register/tZMrf-qrqTopHdbiAGzrMI6BQcdqpESlYUjc</a>
LOCATION:Via Zoom
UID:e.1602.7470
SEQUENCE:3
DTSTAMP:20260423T150838Z
URL:https://business.fairfieldsuisunchamber.com/events/details/nail-salons-massage-and-body-works-reopening-advisory-workshop-7470
END:VEVENT

END:VCALENDAR
