BEGIN:VCALENDAR
VERSION:2.0
PRODID:-//ChamberMaster//Event Calendar 2.0//EN
METHOD:PUBLISH
X-PUBLISHED-TTL:P3D
REFRESH-INTERVAL:P3D
CALSCALE:GREGORIAN
BEGIN:VEVENT
DTSTART:20190623T150000Z
DTEND:20190624T000000Z
X-MICROSOFT-CDO-ALLDAYEVENT:FALSE
SUMMARY:NASCAR Toyota/Save Mart 350
DESCRIPTION:The Toyota/Save Mart 350 roars into Sonoma June 21-23\, and it's guaranteed to be a wild ride. It's the biggest rush to hit wine country\, and you won't want to miss a second of the action on and off track. Be sure to get your tickets as NASCAR tackles its first road course of the season.\n\nThe Carousel is back! That's right\, we're bringing back the original 12-turn road course for this year's Toyota/Save Mart 350\, as NASCAR returns to Northern California\, June 21-23. Be here to celebrate 50 years of racing in the Sonoma Valley\, as NASCAR's biggest stars tackle our challenging circuit.
X-ALT-DESC;FMTTYPE=text/html:<p><span style="font-size:16px\;">The Toyota/Save Mart 350 roars into Sonoma June 21-23\, and it&#39\;s guaranteed to be a wild ride. It&#39\;s the biggest rush to hit wine country\, and you won&#39\;t want to miss a second of the action on and off track. Be sure to get your tickets as NASCAR tackles its first road course of the season.</span></p>\n\n<p><span style="font-size:16px\;"><a href="https://www.sonomaraceway.com/media/news/sonoma-raceway-marks-50th-anniversary-with-return-original-nascar-circuit.html" style="outline: currentcolor none medium\;"><u>The Carousel is back</u>!</a> That&#39\;s right\, we&#39\;re bringing back the original 12-turn road course for this year&#39\;s Toyota/Save Mart 350\, as NASCAR returns to Northern California\, June 21-23. Be here to celebrate 50 years of racing in the Sonoma Valley\, as NASCAR&#39\;s biggest stars tackle our challenging circuit.</span></p>\n
LOCATION:Sonoma Raceway
UID:e.1602.7079
SEQUENCE:3
DTSTAMP:20260424T101114Z
URL:https://business.fairfieldsuisunchamber.com/events/details/nascar-toyota-save-mart-350-7079
END:VEVENT

END:VCALENDAR
