BEGIN:VCALENDAR
VERSION:2.0
PRODID:-//ChamberMaster//Event Calendar 2.0//EN
METHOD:PUBLISH
X-PUBLISHED-TTL:P3D
REFRESH-INTERVAL:P3D
CALSCALE:GREGORIAN
BEGIN:VEVENT
DTSTART:20181017T170000Z
DTEND:20181018T040000Z
X-MICROSOFT-CDO-ALLDAYEVENT:FALSE
SUMMARY:National Support Your Local Chamber Day!
DESCRIPTION:October 17th is our Dine & Donate event at Mary's Pizza Shack in Fairfield!\n\n\n\nWhen you show the flyer below (printed or via mobile device) the Fairfield-Suisun Chamber of Commerce will receive 15% of your order! This applies to Dine-In\, Take-out or Delivery orders! \n\n\n\nSo plan on having lunch and/or Dinner at Mary's Pizza Shack on October 17th and help support your local Chamber too!\n\n\n\n#NationalSupportYourLocalChamberDay
X-ALT-DESC;FMTTYPE=text/html:<span style="color: rgb(29\, 33\, 41)\; font-family: Helvetica\, Arial\, sans-serif\; font-size: 14px\;">October 17th is our Dine &amp\; Donate event at Mary&#39\;s Pizza Shack in Fairfield!</span><br style="color: rgb(29\, 33\, 41)\; font-family: Helvetica\, Arial\, sans-serif\; font-size: 14px\;" />\n<br style="color: rgb(29\, 33\, 41)\; font-family: Helvetica\, Arial\, sans-serif\; font-size: 14px\;" />\n<span style="color: rgb(29\, 33\, 41)\; font-family: Helvetica\, Arial\, sans-serif\; font-size: 14px\;">When you show the flyer below (printed or via mobile device) the Fairfield-Suisun Chamber of Commerce will receive 15% of your order! This applies to Dine-In\, Take-out or Delivery orders!&nbsp\;</span><br style="color: rgb(29\, 33\, 41)\; font-family: Helvetica\, Arial\, sans-serif\; font-size: 14px\;" />\n<br style="color: rgb(29\, 33\, 41)\; font-family: Helvetica\, Arial\, sans-serif\; font-size: 14px\;" />\n<span style="color: rgb(29\, 33\, 41)\; font-family: Helvetica\, Arial\, sans-serif\; font-size: 14px\;">So plan on having lunch and/or Dinner at Mary&#39\;s Pizza Shack on October 17th and help support your local Chamber too!</span><br style="color: rgb(29\, 33\, 41)\; font-family: Helvetica\, Arial\, sans-serif\; font-size: 14px\;" />\n<br style="color: rgb(29\, 33\, 41)\; font-family: Helvetica\, Arial\, sans-serif\; font-size: 14px\;" />\n<a href="https://www.facebook.com/hashtag/nationalsupportyourlocalchamberday" style="color: rgb(54\, 88\, 153)\; cursor: pointer\; text-decoration-line: none\; font-family: Helvetica\, Arial\, sans-serif\; font-size: 14px\;" target="_blank">#NationalSupportYourLocalChamberDay</a>
LOCATION:Mary's Pizza Shack 1500 Oliver Rd.\, Fairfield
UID:e.1602.6691
SEQUENCE:3
DTSTAMP:20260424T223913Z
URL:https://business.fairfieldsuisunchamber.com/events/details/national-support-your-local-chamber-day-6691
END:VEVENT

END:VCALENDAR
