BEGIN:VCALENDAR
VERSION:2.0
PRODID:-//ChamberMaster//Event Calendar 2.0//EN
METHOD:PUBLISH
X-PUBLISHED-TTL:P3D
REFRESH-INTERVAL:P3D
CALSCALE:GREGORIAN
BEGIN:VEVENT
DTSTART:20191012T160000Z
DTEND:20191012T200000Z
X-MICROSOFT-CDO-ALLDAYEVENT:FALSE
SUMMARY:Nature Hike
DESCRIPTION:Nature Hike
X-ALT-DESC;FMTTYPE=text/html:Nature Hike&nbsp\;
LOCATION:Rockville Trails Preserve Meeting location is at the" Ice House" on the corner of Suisun Valley Rd. and Rockville Rd.
UID:e.1602.7324
SEQUENCE:3
DTSTAMP:20260424T040251Z
URL:https://business.fairfieldsuisunchamber.com/events/details/nature-hike-7324
END:VEVENT

END:VCALENDAR
