BEGIN:VCALENDAR
VERSION:2.0
PRODID:-//ChamberMaster//Event Calendar 2.0//EN
METHOD:PUBLISH
X-PUBLISHED-TTL:P3D
REFRESH-INTERVAL:P3D
CALSCALE:GREGORIAN
BEGIN:VEVENT
DTSTART:20191214T170000Z
DTEND:20191214T210000Z
X-MICROSOFT-CDO-ALLDAYEVENT:FALSE
SUMMARY:Nature Hike
DESCRIPTION:Nature Hike
X-ALT-DESC;FMTTYPE=text/html:Nature Hike&nbsp\;&nbsp\;&nbsp\;&nbsp\;&nbsp\;&nbsp\;&nbsp\;&nbsp\;
LOCATION:Meeting location is at the"Ice House" on the corner of Suisun Valley Rd and Rockville Rd.
UID:e.1602.7326
SEQUENCE:3
DTSTAMP:20260424T005034Z
URL:https://business.fairfieldsuisunchamber.com/events/details/nature-hike-7326
END:VEVENT

END:VCALENDAR
