BEGIN:VCALENDAR
VERSION:2.0
PRODID:-//ChamberMaster//Event Calendar 2.0//EN
METHOD:PUBLISH
X-PUBLISHED-TTL:P3D
REFRESH-INTERVAL:P3D
CALSCALE:GREGORIAN
BEGIN:VEVENT
DTSTART;VALUE=DATE:20190726
DTEND;VALUE=DATE:20190729
TRANSP:TRANSPARENT
X-MICROSOFT-CDO-ALLDAYEVENT:TRUE
SUMMARY:NHRA Sonoma Nationals
DESCRIPTION:The NHRA Mello Yello Drag Racing Series blasts onto the Sonoma drag strip\, July 26-28. Track records were set in 2018 and we've got your front-row seat to see John Force\, Antron Brown and Ron Capps as they push the limits to be quicker and faster than ever before.
X-ALT-DESC;FMTTYPE=text/html:<div>\n<p>The NHRA Mello Yello Drag Racing Series blasts onto the Sonoma drag strip\, July 26-28. Track records were set in 2018 and we&rsquo\;ve got your front-row seat to see John Force\, Antron Brown and Ron Capps as they push the limits to be quicker and faster than ever before.&nbsp\;</p>\n</div>\n
LOCATION:Sonoma Raceway
UID:e.1602.7080
SEQUENCE:3
DTSTAMP:20260424T083513Z
URL:https://business.fairfieldsuisunchamber.com/events/details/nhra-sonoma-nationals-7080
END:VEVENT

END:VCALENDAR
