BEGIN:VCALENDAR
VERSION:2.0
PRODID:-//ChamberMaster//Event Calendar 2.0//EN
METHOD:PUBLISH
X-PUBLISHED-TTL:P3D
REFRESH-INTERVAL:P3D
CALSCALE:GREGORIAN
BEGIN:VEVENT
DTSTART;VALUE=DATE:20191211
DTEND;VALUE=DATE:20191212
TRANSP:TRANSPARENT
X-MICROSOFT-CDO-ALLDAYEVENT:TRUE
SUMMARY:No Lunch Mob
DESCRIPTION:No Chamber Lunch Mob scheduled for December
X-ALT-DESC;FMTTYPE=text/html:<div style="text-align: center\;"><span style="font-size:16px\;">No Chamber Lunch Mob scheduled for December</span></div>\n
LOCATION:
UID:e.1602.7401
SEQUENCE:3
DTSTAMP:20260424T005022Z
URL:https://business.fairfieldsuisunchamber.com/events/details/no-lunch-mob-7401
END:VEVENT

END:VCALENDAR
