BEGIN:VCALENDAR
VERSION:2.0
PRODID:-//ChamberMaster//Event Calendar 2.0//EN
METHOD:PUBLISH
X-PUBLISHED-TTL:P3D
REFRESH-INTERVAL:P3D
CALSCALE:GREGORIAN
BEGIN:VEVENT
DTSTART:20180225T020000Z
DTEND:20180225T050000Z
X-MICROSOFT-CDO-ALLDAYEVENT:FALSE
SUMMARY:NorthBay Healthcare Foundation's Open the Bottle Night
DESCRIPTION:NorthBay Healthcare Foundation's Open the Bottle Night
X-ALT-DESC;FMTTYPE=text/html:<span style="font-family: &quot\;Trebuchet MS&quot\;\, Arial\, Helvetica\, Geneva\, Swiss\, SunSans-Regular\; font-size: 16px\;">NorthBay Healthcare Foundation&#39\;s Open the Bottle Night</span>
LOCATION:Hilton Garden Inn - Fairfield 2200 The Courtyard\, Fairfield\, CA 94533
UID:e.1602.4262
SEQUENCE:3
DTSTAMP:20260425T111826Z
URL:https://business.fairfieldsuisunchamber.com/events/details/northbay-healthcare-foundation-s-open-the-bottle-night-4262
END:VEVENT

END:VCALENDAR
