BEGIN:VCALENDAR
VERSION:2.0
PRODID:-//ChamberMaster//Event Calendar 2.0//EN
METHOD:PUBLISH
X-PUBLISHED-TTL:P3D
REFRESH-INTERVAL:P3D
CALSCALE:GREGORIAN
BEGIN:VEVENT
DTSTART:20171029T020000Z
DTEND:20171029T063000Z
X-MICROSOFT-CDO-ALLDAYEVENT:FALSE
SUMMARY:Our Second Annual Halloween Party featuring "The Rhythm Method 4" at Seven Artisans Winery
DESCRIPTION:*Advanced Ticket Purchase is Highly Recommended!"\n\nTickets: $25/pp at Winery /$26/pp Online (includes process fee)\n\nConsists of: Dinner\, Entertainment & One (1) Glass of "First Flight" Wine\n\n\n\n Online Tickets: sevenartisanswinery.com/Halloween 2017 Tickets\n\nNote: Single Ticket Purchase for a Group of 6 or more will receive a reserved table and a complimentary bottle of Red Cote Syrah or Rose Wine!\n\n\n\nThis will be an Indoor/Outdoor Event\n\n(No Ticket Purchases at the door when capacity is reached!)\n\nNo Outside Alcoholic Beverages Permitted \n\nMust be 21 + to Purchase Wine!
X-ALT-DESC;FMTTYPE=text/html:<div style="text-align:center">*Advanced Ticket Purchase is Highly Recommended!&rdquo\;<br />\nTickets: $25/pp at Winery /$26/pp Online (includes process fee)<br />\nConsists of: Dinner\, Entertainment &amp\; One (1) Glass of &ldquo\;First Flight&rdquo\; Wine<br />\n<br />\n&nbsp\;Online Tickets: sevenartisanswinery.com/Halloween 2017 Tickets<br />\nNote: Single Ticket Purchase for a Group of 6 or more will receive a reserved table and a complimentary bottle of Red Cote Syrah or Rose Wine!<br />\n<br />\nThis will be an Indoor/Outdoor Event<br />\n(No Ticket Purchases at the door when capacity is reached!)<br />\nNo Outside Alcoholic Beverages Permitted&nbsp\;<br />\nMust be 21 + to Purchase Wine!</div>\n
LOCATION:Seven Artisans Wiinery 4341 Abernathy Road\, Fairfield\, CA
UID:e.1602.3605
SEQUENCE:3
DTSTAMP:20260425T183547Z
URL:https://business.fairfieldsuisunchamber.com/events/details/our-second-annual-halloween-party-featuring-the-rhythm-method-4-at-seven-artisans-winery-3605
END:VEVENT

END:VCALENDAR
