BEGIN:VCALENDAR
VERSION:2.0
PRODID:-//ChamberMaster//Event Calendar 2.0//EN
METHOD:PUBLISH
X-PUBLISHED-TTL:P3D
REFRESH-INTERVAL:P3D
CALSCALE:GREGORIAN
BEGIN:VEVENT
DTSTART:20180811T210000Z
DTEND:20180812T000000Z
X-MICROSOFT-CDO-ALLDAYEVENT:FALSE
SUMMARY:“Outta Kontrol” heating up the house at Seven Artisans Winery
DESCRIPTION:Outta Kontrol is a very popular Solano County band with an ever-increasing group of music and dance fans. Their song lineup consists of pop\, blues\, rock\, oldies and original tunes penned by lead guitarist\, AJ Garcia. This talented group of singers and players offer a fabulous show which generates immediate audience interaction and participation.\n\n \n\nBand Members\n\nAJ Garcia   Lead Guitar\, Vocals\n\nTony Garcia   Drums\, Vocals\n\nTom Manglona- Keyboard\, Vocals\n\nRichard Sergeant   Bass Guitar\n\nCaitlin Waite   Vocals\n\nIf you enjoy great music and entertainment this is a\n\nPerformance not to be missed.\n\nCome on out and get Outta-Kontrol!\n\n \n\n$15/person   includes Entertainment & one glass "First Flight" Wine\n\nReservations Recommended for Choice Seating \n\nCall/Text: (707)330-3806 or Online: www.sevenartisanswinery.com/reservations\n\nEmail: sevenartisanswinery@gmail.com\n\n*No outside alcoholic beverages* - 21+ to purchase alcohol!
X-ALT-DESC;FMTTYPE=text/html:<span style="color:black"><span style="font-size:12.0pt">Outta Kontrol is a very popular Solano County band with an ever-increasing group of music and dance fans. Their song lineup consists of pop\, blues\, rock\, oldies and original tunes penned by lead guitarist\, AJ Garcia. This talented group of singers and players offer a fabulous show which generates immediate audience interaction and participation.</span></span><br />\n&nbsp\;<br />\n<strong><u><span style="color:black"><span style="font-size:12.0pt">Band Members</span></span></u></strong><br />\n<span style="color:black"><span style="font-size:12.0pt">AJ Garcia &ndash\; Lead Guitar\, Vocals</span></span><br />\n<span style="color:black"><span style="font-size:12.0pt">Tony Garcia &ndash\; Drums\, Vocals</span></span><br />\n<span style="color:black"><span style="font-size:12.0pt">Tom Manglona- Keyboard\, Vocals</span></span><br />\n<span style="color:black"><span style="font-size:12.0pt">Richard Sergeant &ndash\; Bass Guitar</span></span><br />\n<span style="color:black"><span style="font-size:12.0pt">Caitlin Waite &ndash\; Vocals</span></span><br />\n<strong><em><span style="color:black"><span style="font-size:18.0pt">If you enjoy great music and entertainment this is a</span></span></em></strong><br />\n<strong><em><span style="color:black"><span style="font-size:18.0pt">Performance not to be missed.</span></span></em></strong><br />\n<strong><em><span style="color:black"><span style="font-size:18.0pt">Come on out and get Outta-Kontrol!</span></span></em></strong><br />\n&nbsp\;<br />\n<em><span style="color:black"><span style="font-size:12.0pt">$15/person &ndash\; includes Entertainment &amp\; one glass &ldquo\;First Flight&rdquo\; Wine</span></span></em><br />\n<em><span style="color:black"><span style="font-size:12.0pt">Reservations Recommended for Choice Seating </span></span></em><br />\n<em><span style="color:black"><span style="font-size:12.0pt">Call/Text: (707)330-3806 or Online: www.sevenartisanswinery.com/reservations</span></span></em><br />\n<em><span style="color:black"><span style="font-size:12.0pt">Email: sevenartisanswinery@gmail.com</span></span></em><br />\n<em><span style="color:black"><span style="font-size:12.0pt">*No outside alcoholic beverages* - 21+ to purchase alcohol!</span></span></em>
LOCATION:Seven Artisans Winery 4341 Abernathy Raod Fairfield\, Ca 94534
UID:e.1602.6610
SEQUENCE:3
DTSTAMP:20260425T020338Z
URL:https://business.fairfieldsuisunchamber.com/events/details/outta-kontrol-heating-up-the-house-at-seven-artisans-winery-08-11-2018-6610
END:VEVENT

END:VCALENDAR
