BEGIN:VCALENDAR
VERSION:2.0
PRODID:-//ChamberMaster//Event Calendar 2.0//EN
METHOD:PUBLISH
X-PUBLISHED-TTL:P3D
REFRESH-INTERVAL:P3D
CALSCALE:GREGORIAN
BEGIN:VEVENT
DTSTART:20180707T210000Z
DTEND:20180708T010000Z
X-MICROSOFT-CDO-ALLDAYEVENT:FALSE
SUMMARY:"Papa Joe & The New Deal" perform at Seven Artisans Winery
DESCRIPTION:Band Members\n\n\n\nLani Parker - Vocals\n\nJanice Hoang Dispo - Vocals\n\nSelia Lucero - Vocals\n\nEd Rillera - Keyboards/Vocals\n\nElias Lucero- Bass/Vocals\n\nJohn Duarte - Percussion\n\nDave McClure - Drums\n\nJoe Lucero - Guitar/Vocals\n\n \n\nThis 8-piece band performs everything from James Brown to Santana\, Earth Wind & Fire to Bruno Mars!\n\nComing from the SF Bay Area\, with vocal harmonies from five singers and a funk driven rhythm section\, takes you on a musical journey of R&B with a flavor that puts them in a class of their own!\n\n\n\n$15/person   includes Entertainment & one glass "First Flight" Wine\n\nReservations Recommended for Choice Seating\n\nCall/Text: (707)330-3806 or Online: www.sevenartisanswinery.com/reservations\n\nEmail: sevenartisanswinery@gmail.com\n\n*No outside alcoholic beverages* - 21+ to purchase alcohol!
X-ALT-DESC;FMTTYPE=text/html:<u>Band Members</u><br />\n<br />\nLani Parker - Vocals<br />\nJanice Hoang Dispo - Vocals<br />\nSelia Lucero - Vocals<br />\nEd Rillera - Keyboards/Vocals<br />\nElias Lucero- Bass/Vocals<br />\nJohn Duarte - Percussion<br />\nDave McClure - Drums<br />\nJoe Lucero - Guitar/Vocals<br />\n&nbsp\;<br />\nThis 8-piece band performs everything from James Brown to Santana\, Earth Wind &amp\; Fire to Bruno Mars!<br />\nComing from the SF Bay Area\, with vocal harmonies from five singers and a funk driven rhythm section\, takes you on a musical journey of R&amp\;B with a flavor that puts them in a class of their own!<br />\n<br />\n$15/person &ndash\; includes Entertainment &amp\; one glass &ldquo\;First Flight&rdquo\; Wine<br />\nReservations Recommended for Choice Seating<br />\nCall/Text: (707)330-3806 or Online: www.sevenartisanswinery.com/reservations<br />\nEmail: sevenartisanswinery@gmail.com<br />\n*No outside alcoholic beverages* - 21+ to purchase alcohol!
LOCATION:Seven Artisans Winery 4341 Abernahy Road Fairfield\, CA 94534
UID:e.1602.6594
SEQUENCE:3
DTSTAMP:20260425T032600Z
URL:https://business.fairfieldsuisunchamber.com/events/details/papa-joe-the-new-deal-perform-at-seven-artisans-winery-6594
END:VEVENT

END:VCALENDAR
