BEGIN:VCALENDAR
VERSION:2.0
PRODID:-//ChamberMaster//Event Calendar 2.0//EN
METHOD:PUBLISH
X-PUBLISHED-TTL:P3D
REFRESH-INTERVAL:P3D
CALSCALE:GREGORIAN
BEGIN:VEVENT
DTSTART:20190413T210000Z
DTEND:20190414T000000Z
X-MICROSOFT-CDO-ALLDAYEVENT:FALSE
SUMMARY:Papa Joe & The New Deal play Seven Artisans Winery
DESCRIPTION:Saturday\, April 13th\n\n2:00 - 5:00 PM\n\n \n\nSEVEN ARTISANS WINERY\n\n \n\npresents:\n\n \n\nPapa Joe &\n\nThe New Deal\n\n \n\n \n\n \n\nFood available from Fredrick's Catering\n\n \n\nPlease Join us for an afternoon of fantastic music\,\n\ndancing\,  fine food\, great people and fun!\n\n \n\n \n\nSeven Artisans Winery\n\n4341 Abernathy Road\n\nFairfield\, CA 94534\n\n \n\nReservations strongly suggested\n\nCall or text: (707) 771-0911\n\n \n\nNo outside alcohol permitted\n\n \n\nWe'll be outside in the sunshine!\n\n \n\nSee you on "the lawn"
X-ALT-DESC;FMTTYPE=text/html:<div style="text-align: center\;"><strong><span style="font-family:elephant\,serif"><span style="font-size:36.0pt">Saturday\, April 13<sup>th</sup></span></span></strong><br />\n<strong><span style="font-family:elephant\,serif"><span style="font-size:26.0pt">2:00 - 5:00 PM</span></span></strong><br />\n&nbsp\;<br />\n<strong><span style="font-family:elephant\,serif"><span style="font-size:36.0pt">SEVEN ARTISANS WINERY</span></span></strong><br />\n&nbsp\;<br />\n<strong><em><span style="font-family:elephant\,serif"><span style="font-size:26.0pt">presents:</span></span></em></strong><br />\n&nbsp\;<br />\n<strong><em><span style="font-family:elephant\,serif"><span style="font-size:72.0pt">Papa Joe &amp\;</span></span></em></strong><br />\n<strong><em><span style="font-family:elephant\,serif"><span style="font-size:72.0pt">The New Deal</span></span></em></strong><br />\n&nbsp\;<br />\n&nbsp\;<br />\n&nbsp\;<br />\n<strong><span style="font-family:elephant\,serif"><span style="font-size:18.0pt">Food available from Fredrick&rsquo\;s Catering</span></span></strong><br />\n&nbsp\;<br />\n<strong><em><span style="font-family:elephant\,serif"><span style="font-size:14.0pt">Please Join us for an afternoon of fantastic music\,</span></span></em></strong><br />\n<strong><em><span style="font-family:elephant\,serif"><span style="font-size:14.0pt">dancing\,&nbsp\; fine food\, great people and fun!</span></span></em></strong><br />\n&nbsp\;<br />\n&nbsp\;<br />\n<strong><span style="font-family:elephant\,serif"><span style="font-size:20.0pt">Seven Artisans Winery</span></span></strong><br />\n<strong><span style="font-family:elephant\,serif"><span style="font-size:20.0pt">4341 Abernathy Road</span></span></strong><br />\n<strong><span style="font-family:elephant\,serif"><span style="font-size:20.0pt">Fairfield\, CA 94534</span></span></strong><br />\n&nbsp\;<br />\n<strong><span style="font-family:elephant\,serif"><span style="font-size:20.0pt">Reservations strongly suggested</span></span></strong><br />\n<strong><span style="font-family:elephant\,serif"><span style="font-size:20.0pt">Call or text: (707) 771-0911</span></span></strong><br />\n&nbsp\;<br />\n<strong><span style="font-family:elephant\,serif"><span style="font-size:20.0pt">No outside alcohol permitted</span></span></strong><br />\n&nbsp\;<br />\n<strong><span style="font-family:elephant\,serif"><span style="font-size:14.0pt">We&rsquo\;ll be outside in the sunshine!</span></span></strong><br />\n&nbsp\;<br />\n<strong><span style="font-family:elephant\,serif"><span style="font-size:14.0pt">See you on &ldquo\;the lawn&rdquo\;</span></span></strong><br />\n&nbsp\;<br />\n&nbsp\;<br />\n&nbsp\;<br />\n&nbsp\;<br />\n&nbsp\;<br />\n&nbsp\;</div>\n
LOCATION:Seven Artisans Winery 4341 Abernathy Road Fairfield\, CA 94534
UID:e.1602.7069
SEQUENCE:3
DTSTAMP:20260424T133003Z
URL:https://business.fairfieldsuisunchamber.com/events/details/papa-joe-the-new-deal-play-seven-artisans-winery-7069
END:VEVENT

END:VCALENDAR
