BEGIN:VCALENDAR
VERSION:2.0
PRODID:-//ChamberMaster//Event Calendar 2.0//EN
METHOD:PUBLISH
X-PUBLISHED-TTL:P3D
REFRESH-INTERVAL:P3D
CALSCALE:GREGORIAN
BEGIN:VEVENT
DTSTART:20191101T160000Z
DTEND:20191101T180000Z
X-MICROSOFT-CDO-ALLDAYEVENT:FALSE
SUMMARY:Park and Beach Cleanup!
DESCRIPTION:Join Ball Aluminum and the Surfrider Foundation for a park and shore cleanup at the Mike Day Memorial Park! Volunteers of all ages are welcome to this free\, community event. Surfrider will provide all cleanup supplies and volunteers are encouraged to bring a reusable water bottle\, spf and closed toe shoes. Upon arrival\, look for the blue Surfrider flags. Hope to see you there!
X-ALT-DESC;FMTTYPE=text/html:Join Ball Aluminum and the Surfrider Foundation for a park and shore cleanup at the Mike Day Memorial Park! Volunteers of all ages are welcome to this free\, community event. Surfrider will provide all cleanup supplies and volunteers are encouraged to bring a reusable water bottle\, spf and closed toe shoes. Upon arrival\, look for the blue Surfrider flags. Hope to see you there!
LOCATION:Mike Day Memorial Park 605\,1-3 Civic Center Blvd Suisun City\, CA 94585
UID:e.1602.7375
SEQUENCE:3
DTSTAMP:20260424T023209Z
URL:https://business.fairfieldsuisunchamber.com/events/details/park-and-beach-cleanup-7375
END:VEVENT

END:VCALENDAR
