BEGIN:VCALENDAR
VERSION:2.0
PRODID:-//ChamberMaster//Event Calendar 2.0//EN
METHOD:PUBLISH
X-PUBLISHED-TTL:P3D
REFRESH-INTERVAL:P3D
CALSCALE:GREGORIAN
BEGIN:VEVENT
DTSTART:20180124T180000Z
DTEND:20180124T190000Z
X-MICROSOFT-CDO-ALLDAYEVENT:FALSE
SUMMARY:Personality Traits that Predict Behavior in Pilots Free Webinar
DESCRIPTION:Interested in pilot personality testing but skeptical about the usability of the tools on the market? This complimentary webinar will provide an overview of effective psychometric profiling and show you how you can use psychometric profiling tools\, using real-world examples in pilot selection. We will explore how to read personality profiles and its best utilization in aviation context (e.g. in the selection and in the simulator). Instructed by Karina Mesarosova\, ERAU Adjunct Professor and managing partner of KM Flight Research & Training in Europe. Join us at the Travis Campus 10am-11am on January 24th for this free informational webinar viewing and enjoy free lunch and beverages. To RSVP email us at: travis@erau.edu . For more information visit: https://europe.erau.edu/news-events/personality-traits-webinar/index.html
X-ALT-DESC;FMTTYPE=text/html:Interested in pilot personality testing but skeptical about the usability of the tools on the market? This complimentary webinar will provide an overview of effective psychometric profiling and show you how you can use psychometric profiling tools\, using real-world examples in pilot selection. We will explore how to read personality profiles and its best utilization in aviation context (e.g. in the selection and in the simulator). Instructed by Karina Mesarosova\, ERAU Adjunct Professor and managing partner of KM Flight Research &amp\; Training in Europe. Join us at the Travis Campus 10am-11am on January 24th for this free informational webinar viewing and enjoy free lunch and beverages. To RSVP email us at: travis@erau.edu . For more information visit: https://europe.erau.edu/news-events/personality-traits-webinar/index.html
LOCATION:Embry-Riddle Aeronautical University Travis AFB Campus 530 Hickam Ave Bldg 249 Travis AFB\, CA 94535
UID:e.1602.4104
SEQUENCE:3
DTSTAMP:20260425T133837Z
URL:https://business.fairfieldsuisunchamber.com/events/details/personality-traits-that-predict-behavior-in-pilots-free-webinar-4104
END:VEVENT

END:VCALENDAR
