BEGIN:VCALENDAR
VERSION:2.0
PRODID:-//ChamberMaster//Event Calendar 2.0//EN
METHOD:PUBLISH
X-PUBLISHED-TTL:P3D
REFRESH-INTERVAL:P3D
CALSCALE:GREGORIAN
BEGIN:VEVENT
DTSTART:20191016T160000Z
DTEND:20191016T200000Z
X-MICROSOFT-CDO-ALLDAYEVENT:FALSE
SUMMARY:Principal for a Day
DESCRIPTION:Wednesday\, 10/16/19 is the Fairfield-Suisun Unified School District's "Principal for the Day" event. If you've been a Principal for the Day in the past\, we'd love for you experience a different school this time\, so please note your preferences in the form linked below!\n \n\nThe day is going to start at 8:00 AM\, at the Central Office\, for an orientation and a light breakfast. Guest principals will be at their assigned campus from about 9:00 AM to 11:30 AM.\n \n\nThis 2 1/2 hour tour/visit could include activities like:\n\n \n\n\n	\n	Classroom visits while discussing teaching and learning methods\n	\n	\n	Read morning announcements or appear on school's morning TV news\n	\n	\n	Lead the Pledge of Allegiance\n	\n	\n	Read to a class\n	\n	\n	Meet with the Student Council\n	\n	\n	Help supervise the playground/passing period\n	\n	\n	Sit in on meetings with parents (with their permission)\n	\n	\n	Attend a special activity/visit a special program that makes the campus unique\n	\n	\n	Visit the preschool program at the school\n	\n\n \n\nAfter leaving the campus\, the guest principal will return to the Central Office for a celebration luncheon and brief report out of experiences\, finishing promptly at 1:00 PM.\n\n \nIf you are interested in participating\, please fill out the online form at the link below. If you know someone who you think would be a great fit for this opportunity\, feel free to forward this invitation to them so they can fill out the form!\n\n \n\nhttps://forms.gle/m8HxqUK85D4f28WMA\n\n \n\nWe plan to make our final assignments of schools and communicate those out on Wednesday\, 10/9/19.
X-ALT-DESC;FMTTYPE=text/html:<p dir="ltr" style="line-height: 1.38\; margin-top: 0pt\; margin-bottom: 0pt\;"><span style="font-size:16px\;"><span id="m_-8658105885261546755m_306813634294096304gmail-m_-9107870127380552584inbox-inbox-inbox-inbox-m_-2455391926507652412inbox-inbox-m_3004328124587874003inbox-inbox-inbox-inbox-m_-1225418347265306749inbox-inbox-m_6065184594300650977inbox-inbox-docs-internal-guid-cc794ea6-3960-8c0a-85d3-ff542ca5a334" style="font-family: Arial\, Helvetica\, sans-serif\; color: rgb(33\, 33\, 33)\;"><span style="font-family: Arial\; color: rgb(34\, 34\, 34)\; vertical-align: baseline\; white-space: pre-wrap\;">Wednesday\, 10/16/19 is <span class="m_-8658105885261546755m_306813634294096304gmail-il">the</span> Fairfield-Suisun Unified School District&#39\;s </span><span style="font-family: Arial\; color: rgb(34\, 34\, 34)\; font-weight: 700\; font-style: italic\; vertical-align: baseline\; white-space: pre-wrap\;">&quot\;<span class="m_-8658105885261546755m_306813634294096304gmail-il">Principal</span> <span class="m_-8658105885261546755m_306813634294096304gmail-il">for</span> <span class="m_-8658105885261546755m_306813634294096304gmail-il">the</span> <span class="m_-8658105885261546755m_306813634294096304gmail-il">Day</span>&quot\;</span><span style="font-family: Arial\; color: rgb(34\, 34\, 34)\; vertical-align: baseline\; white-space: pre-wrap\;"> event. If you&#39\;ve been a <span class="m_-8658105885261546755m_306813634294096304gmail-il">Principal</span> <span class="m_-8658105885261546755m_306813634294096304gmail-il">for</span> <span class="m_-8658105885261546755m_306813634294096304gmail-il">the</span> <span class="m_-8658105885261546755m_306813634294096304gmail-il">Day</span> in <span class="m_-8658105885261546755m_306813634294096304gmail-il">the</span> past\, we&#39\;d love <span class="m_-8658105885261546755m_306813634294096304gmail-il">for</span> you experience a different school</span><span style="font-family: Arial\; color: rgb(34\, 34\, 34)\; vertical-align: baseline\; white-space: pre-wrap\;"> this time\, so please note your preferences in <span class="m_-8658105885261546755m_306813634294096304gmail-il">the</span> form linked below!</span></span></span></p>\n&nbsp\;\n\n<p dir="ltr" style="line-height: 1.38\; margin-top: 0pt\; margin-bottom: 0pt\;"><span style="font-size:16px\;"><span id="m_-8658105885261546755m_306813634294096304gmail-m_-9107870127380552584inbox-inbox-inbox-inbox-m_-2455391926507652412inbox-inbox-m_3004328124587874003inbox-inbox-inbox-inbox-m_-1225418347265306749inbox-inbox-m_6065184594300650977inbox-inbox-docs-internal-guid-cc794ea6-3960-8c0a-85d3-ff542ca5a334" style="font-family: Arial\, Helvetica\, sans-serif\; color: rgb(33\, 33\, 33)\;"><span style="font-family: Arial\; color: rgb(34\, 34\, 34)\; vertical-align: baseline\; white-space: pre-wrap\;"><span class="m_-8658105885261546755m_306813634294096304gmail-il">The</span> <span class="m_-8658105885261546755m_306813634294096304gmail-il">day</span> is going to start at 8:00 AM\, at <span class="m_-8658105885261546755m_306813634294096304gmail-il">the</span> Central Office\, <span class="m_-8658105885261546755m_306813634294096304gmail-il">for</span> an orientation and a light breakfast. </span><span style="color: rgb(34\, 34\, 34)\; font-family: Arial\; white-space: pre-wrap\;">Guest principals will be at their assigned campus from about 9:00 AM to 11:30 AM.</span></span></span></p>\n&nbsp\;\n\n<p dir="ltr" style="line-height: 1.38\; margin-top: 0pt\; margin-bottom: 0pt\;"><span style="font-size:16px\;"><span id="m_-8658105885261546755m_306813634294096304gmail-m_-9107870127380552584inbox-inbox-inbox-inbox-m_-2455391926507652412inbox-inbox-m_3004328124587874003inbox-inbox-inbox-inbox-m_-1225418347265306749inbox-inbox-m_6065184594300650977inbox-inbox-docs-internal-guid-cc794ea6-3960-8c0a-85d3-ff542ca5a334" style="font-family: Arial\, Helvetica\, sans-serif\; color: rgb(33\, 33\, 33)\;"><span style="font-family: Arial\; color: rgb(34\, 34\, 34)\; vertical-align: baseline\; white-space: pre-wrap\;">This 2 1/2 hour tour/visit could include activities like:</span></span></span></p>\n\n<p dir="ltr" style="line-height: 1.38\; margin-top: 0pt\; margin-bottom: 0pt\;">&nbsp\;</p>\n\n<ul style="margin-top: 0pt\; margin-bottom: 0pt\;">\n	<li style="margin-left: 11pt\; list-style-type: disc\; font-size: 10pt\; font-family: Arial\; color: rgb(34\, 34\, 34)\; vertical-align: baseline\;">\n	<p style="line-height: 1.38\; margin-top: 0pt\; margin-bottom: 0pt\;"><span style="font-size:16px\;"><span id="m_-8658105885261546755m_306813634294096304gmail-m_-9107870127380552584inbox-inbox-inbox-inbox-m_-2455391926507652412inbox-inbox-m_3004328124587874003inbox-inbox-inbox-inbox-m_-1225418347265306749inbox-inbox-m_6065184594300650977inbox-inbox-docs-internal-guid-cc794ea6-3960-8c0a-85d3-ff542ca5a334" style="font-family: Arial\, Helvetica\, sans-serif\; color: rgb(33\, 33\, 33)\;"><span style="vertical-align: baseline\; white-space: pre-wrap\;">Classroom visits while discussing teaching and learning methods</span></span></span></p>\n	</li>\n	<li style="margin-left: 11pt\; list-style-type: disc\; font-size: 10pt\; font-family: Arial\; color: rgb(34\, 34\, 34)\; vertical-align: baseline\;">\n	<p style="line-height: 1.38\; margin-top: 0pt\; margin-bottom: 0pt\;"><span style="font-size:16px\;"><span id="m_-8658105885261546755m_306813634294096304gmail-m_-9107870127380552584inbox-inbox-inbox-inbox-m_-2455391926507652412inbox-inbox-m_3004328124587874003inbox-inbox-inbox-inbox-m_-1225418347265306749inbox-inbox-m_6065184594300650977inbox-inbox-docs-internal-guid-cc794ea6-3960-8c0a-85d3-ff542ca5a334" style="font-family: Arial\, Helvetica\, sans-serif\; color: rgb(33\, 33\, 33)\;"><span style="vertical-align: baseline\; white-space: pre-wrap\;">Read morning announcements or appear on school&rsquo\;s morning TV news</span></span></span></p>\n	</li>\n	<li style="margin-left: 11pt\; list-style-type: disc\; font-size: 10pt\; font-family: Arial\; color: rgb(34\, 34\, 34)\; vertical-align: baseline\;">\n	<p style="line-height: 1.38\; margin-top: 0pt\; margin-bottom: 0pt\;"><span style="font-size:16px\;"><span id="m_-8658105885261546755m_306813634294096304gmail-m_-9107870127380552584inbox-inbox-inbox-inbox-m_-2455391926507652412inbox-inbox-m_3004328124587874003inbox-inbox-inbox-inbox-m_-1225418347265306749inbox-inbox-m_6065184594300650977inbox-inbox-docs-internal-guid-cc794ea6-3960-8c0a-85d3-ff542ca5a334" style="font-family: Arial\, Helvetica\, sans-serif\; color: rgb(33\, 33\, 33)\;"><span style="vertical-align: baseline\; white-space: pre-wrap\;">Lead <span class="m_-8658105885261546755m_306813634294096304gmail-il">the</span> Pledge of Allegiance</span></span></span></p>\n	</li>\n	<li style="margin-left: 11pt\; list-style-type: disc\; font-size: 10pt\; font-family: Arial\; color: rgb(34\, 34\, 34)\; vertical-align: baseline\;">\n	<p style="line-height: 1.38\; margin-top: 0pt\; margin-bottom: 0pt\;"><span style="font-size:16px\;"><span id="m_-8658105885261546755m_306813634294096304gmail-m_-9107870127380552584inbox-inbox-inbox-inbox-m_-2455391926507652412inbox-inbox-m_3004328124587874003inbox-inbox-inbox-inbox-m_-1225418347265306749inbox-inbox-m_6065184594300650977inbox-inbox-docs-internal-guid-cc794ea6-3960-8c0a-85d3-ff542ca5a334" style="font-family: Arial\, Helvetica\, sans-serif\; color: rgb(33\, 33\, 33)\;"><span style="vertical-align: baseline\; white-space: pre-wrap\;">Read to a class</span></span></span></p>\n	</li>\n	<li style="margin-left: 11pt\; list-style-type: disc\; font-size: 10pt\; font-family: Arial\; color: rgb(34\, 34\, 34)\; vertical-align: baseline\;">\n	<p style="line-height: 1.38\; margin-top: 0pt\; margin-bottom: 0pt\;"><span style="font-size:16px\;"><span id="m_-8658105885261546755m_306813634294096304gmail-m_-9107870127380552584inbox-inbox-inbox-inbox-m_-2455391926507652412inbox-inbox-m_3004328124587874003inbox-inbox-inbox-inbox-m_-1225418347265306749inbox-inbox-m_6065184594300650977inbox-inbox-docs-internal-guid-cc794ea6-3960-8c0a-85d3-ff542ca5a334" style="font-family: Arial\, Helvetica\, sans-serif\; color: rgb(33\, 33\, 33)\;"><span style="vertical-align: baseline\; white-space: pre-wrap\;">Meet with <span class="m_-8658105885261546755m_306813634294096304gmail-il">the</span> Student Council</span></span></span></p>\n	</li>\n	<li style="margin-left: 11pt\; list-style-type: disc\; font-size: 10pt\; font-family: Arial\; color: rgb(34\, 34\, 34)\; vertical-align: baseline\;">\n	<p style="line-height: 1.38\; margin-top: 0pt\; margin-bottom: 0pt\;"><span style="font-size:16px\;"><span id="m_-8658105885261546755m_306813634294096304gmail-m_-9107870127380552584inbox-inbox-inbox-inbox-m_-2455391926507652412inbox-inbox-m_3004328124587874003inbox-inbox-inbox-inbox-m_-1225418347265306749inbox-inbox-m_6065184594300650977inbox-inbox-docs-internal-guid-cc794ea6-3960-8c0a-85d3-ff542ca5a334" style="font-family: Arial\, Helvetica\, sans-serif\; color: rgb(33\, 33\, 33)\;"><span style="vertical-align: baseline\; white-space: pre-wrap\;">Help supervise <span class="m_-8658105885261546755m_306813634294096304gmail-il">the</span> playground/passing period</span></span></span></p>\n	</li>\n	<li style="margin-left: 11pt\; list-style-type: disc\; font-size: 10pt\; font-family: Arial\; color: rgb(34\, 34\, 34)\; vertical-align: baseline\;">\n	<p style="line-height: 1.38\; margin-top: 0pt\; margin-bottom: 0pt\;"><span style="font-size:16px\;"><span id="m_-8658105885261546755m_306813634294096304gmail-m_-9107870127380552584inbox-inbox-inbox-inbox-m_-2455391926507652412inbox-inbox-m_3004328124587874003inbox-inbox-inbox-inbox-m_-1225418347265306749inbox-inbox-m_6065184594300650977inbox-inbox-docs-internal-guid-cc794ea6-3960-8c0a-85d3-ff542ca5a334" style="font-family: Arial\, Helvetica\, sans-serif\; color: rgb(33\, 33\, 33)\;"><span style="vertical-align: baseline\; white-space: pre-wrap\;">Sit in on meetings with parents (with their permission)</span></span></span></p>\n	</li>\n	<li style="margin-left: 11pt\; list-style-type: disc\; font-size: 10pt\; font-family: Arial\; color: rgb(34\, 34\, 34)\; vertical-align: baseline\;">\n	<p style="line-height: 1.38\; margin-top: 0pt\; margin-bottom: 0pt\;"><span style="font-size:16px\;"><span id="m_-8658105885261546755m_306813634294096304gmail-m_-9107870127380552584inbox-inbox-inbox-inbox-m_-2455391926507652412inbox-inbox-m_3004328124587874003inbox-inbox-inbox-inbox-m_-1225418347265306749inbox-inbox-m_6065184594300650977inbox-inbox-docs-internal-guid-cc794ea6-3960-8c0a-85d3-ff542ca5a334" style="font-family: Arial\, Helvetica\, sans-serif\; color: rgb(33\, 33\, 33)\;"><span style="vertical-align: baseline\; white-space: pre-wrap\;">Attend a special activity/visit a special program that makes <span class="m_-8658105885261546755m_306813634294096304gmail-il">the</span> campus unique</span></span></span></p>\n	</li>\n	<li style="margin-left: 11pt\; list-style-type: disc\; font-size: 10pt\; font-family: Arial\; color: rgb(34\, 34\, 34)\; vertical-align: baseline\;">\n	<p style="line-height: 1.38\; margin-top: 0pt\; margin-bottom: 0pt\;"><span style="font-size:16px\;"><span id="m_-8658105885261546755m_306813634294096304gmail-m_-9107870127380552584inbox-inbox-inbox-inbox-m_-2455391926507652412inbox-inbox-m_3004328124587874003inbox-inbox-inbox-inbox-m_-1225418347265306749inbox-inbox-m_6065184594300650977inbox-inbox-docs-internal-guid-cc794ea6-3960-8c0a-85d3-ff542ca5a334" style="font-family: Arial\, Helvetica\, sans-serif\; color: rgb(33\, 33\, 33)\;"><span style="vertical-align: baseline\; white-space: pre-wrap\;">Visit <span class="m_-8658105885261546755m_306813634294096304gmail-il">the</span> preschool program at <span class="m_-8658105885261546755m_306813634294096304gmail-il">the</span> school</span></span></span></p>\n	</li>\n</ul>\n&nbsp\;\n\n<p dir="ltr" style="line-height: 1.38\; margin-top: 0pt\; margin-bottom: 0pt\;"><span style="font-size:16px\;"><span id="m_-8658105885261546755m_306813634294096304gmail-m_-9107870127380552584inbox-inbox-inbox-inbox-m_-2455391926507652412inbox-inbox-m_3004328124587874003inbox-inbox-inbox-inbox-m_-1225418347265306749inbox-inbox-m_6065184594300650977inbox-inbox-docs-internal-guid-cc794ea6-3960-8c0a-85d3-ff542ca5a334" style="font-family: Arial\, Helvetica\, sans-serif\; color: rgb(33\, 33\, 33)\;"><span style="font-family: Arial\; color: rgb(34\, 34\, 34)\; vertical-align: baseline\; white-space: pre-wrap\;">After leaving <span class="m_-8658105885261546755m_306813634294096304gmail-il">the</span> campus\, <span class="m_-8658105885261546755m_306813634294096304gmail-il">the</span> guest <span class="m_-8658105885261546755m_306813634294096304gmail-il">principal</span> will return to <span class="m_-8658105885261546755m_306813634294096304gmail-il">the</span> Central Office <span class="m_-8658105885261546755m_306813634294096304gmail-il">for</span> a celebration luncheon and brief report out of experiences\, finishing promptly at 1:00 PM.</span></span></span></p>\n\n<div>&nbsp\;</div>\n<span style="font-size:16px\;"><span style="font-family: Arial\, Helvetica\, sans-serif\; color: rgb(33\, 33\, 33)\;">If you are interested in participating\, please fill out&nbsp\;<span class="m_-8658105885261546755m_306813634294096304gmail-il">the</span>&nbsp\;online form at&nbsp\;<span class="m_-8658105885261546755m_306813634294096304gmail-il">the</span>&nbsp\;link below.&nbsp\;<b>If you know someone who you think would be a great fit&nbsp\;<span class="m_-8658105885261546755m_306813634294096304gmail-il">for</span>&nbsp\;this opportunity\, feel free to forward this invitation to them so they can fill out&nbsp\;<span class="m_-8658105885261546755m_306813634294096304gmail-il">the</span>&nbsp\;form!</b></span></span>\n\n<div style="font-family: Arial\, Helvetica\, sans-serif\; color: rgb(33\, 33\, 33)\;">&nbsp\;</div>\n\n<div style="font-family: Arial\, Helvetica\, sans-serif\; color: rgb(33\, 33\, 33)\;"><span style="font-size:16px\;"><a data-saferedirecturl="https://www.google.com/url?q=https://forms.gle/m8HxqUK85D4f28WMA&amp\;source=gmail&amp\;ust=1569621980103000&amp\;usg=AFQjCNG5AHmV4zxio7cUhFrzvfH54ZOLzg" href="https://forms.gle/m8HxqUK85D4f28WMA" style="color: rgb(17\, 85\, 204)\;" target="_blank">https://forms.gle/<wbr />m8HxqUK85D4f28WMA</a></span></div>\n\n<div style="font-family: Arial\, Helvetica\, sans-serif\; color: rgb(33\, 33\, 33)\;">&nbsp\;</div>\n\n<div style="font-family: Arial\, Helvetica\, sans-serif\; color: rgb(33\, 33\, 33)\;"><span style="font-size:16px\;">We plan to make our final assignments of schools and communicate those out on Wednesday\, 10/9/19.</span></div>\n
LOCATION:Fairfield-Suisun Unified School District
UID:e.1602.7340
SEQUENCE:3
DTSTAMP:20260424T040258Z
URL:https://business.fairfieldsuisunchamber.com/events/details/principal-for-a-day-7340
END:VEVENT

END:VCALENDAR
