BEGIN:VCALENDAR
VERSION:2.0
PRODID:-//ChamberMaster//Event Calendar 2.0//EN
METHOD:PUBLISH
X-PUBLISHED-TTL:P3D
REFRESH-INTERVAL:P3D
CALSCALE:GREGORIAN
BEGIN:VEVENT
DTSTART:20190330T163000Z
DTEND:20190330T183000Z
X-MICROSOFT-CDO-ALLDAYEVENT:FALSE
SUMMARY:Quarterly Dog Walk @Mankas Gardens
DESCRIPTION:DOG WALK & BREAKFAST\n\nJoin us with your furry friends at Mankas Gardens \n\nFor the safety of all\, we will be walking in small groups to the Estate Property for breakfast.\n\n$10 per person for Non Members \n\n2 - Complimentary tickets per Club Membership\n\n(additional tickets for guests will be $10 per person)\n\n \n\nCANCELLATION POLICY IN EFFECT\n\n'Cancellation policy   You must provide in writing via email no later than 48 hours prior to the event that you are unable to attend.  If you rsvp'd to the event and do not show you will be charged according to the retail price of the ticket for the event with your credit card on file. You will be charged full price\, No discounts will apply\, and no shows are nonrefundable. (VEZERSTOCK concert series $19.99\, Chieftain Gala $150.00\, Pick up Parties $29.00\, Port Tasting $15 - $25\, Dog Walk $10\, Karaoke Party $10). Staff members are not authorized to accept cancellations.'
X-ALT-DESC;FMTTYPE=text/html:<p style="margin-left:0px\; margin-right:0px\; text-align:center">DOG WALK &amp\; BREAKFAST</p>\n\n<p style="margin-left:0px\; margin-right:0px\; text-align:center">Join us with your furry friends at Mankas Gardens&nbsp\;</p>\n\n<p style="margin-left:0px\; margin-right:0px\; text-align:center">For the safety of all\, we will be walking in small groups to the Estate Property for breakfast.</p>\n\n<p style="margin-left:0px\; margin-right:0px\; text-align:center">$10 per person for Non Members&nbsp\;</p>\n\n<p style="margin-left:0px\; margin-right:0px\; text-align:center">2 - Complimentary tickets per Club Membership</p>\n\n<p style="margin-left:0px\; margin-right:0px\; text-align:center">(additional tickets for guests will be $10 per person)</p>\n\n<p style="margin-left:0px\; margin-right:0px\; text-align:center">&nbsp\;</p>\n\n<p style="margin-left:0px\; margin-right:0px\; text-align:center"><strong>CANCELLATION POLICY IN EFFECT</strong><br />\n&#39\;Cancellation policy &ndash\; You must provide in writing via email no later than 48 hours prior to the event that you are unable to attend. &nbsp\;If you rsvp&#39\;d to the event and do not show you will be charged according to the retail price of the ticket for the event with your credit card on file. You will be charged full price\, No discounts will apply\, and no shows are nonrefundable. (VEZERSTOCK concert series $19.99\, Chieftain Gala $150.00\, Pick up Parties $29.00\, Port Tasting $15 - $25\, Dog Walk $10\, Karaoke Party $10). Staff members are not authorized to accept cancellations.&#39\;</p>\n
LOCATION:Mankas Gardens
UID:e.1602.7029
SEQUENCE:3
DTSTAMP:20260424T144408Z
URL:https://business.fairfieldsuisunchamber.com/events/details/quarterly-dog-walk-mankas-gardens-7029
END:VEVENT

END:VCALENDAR
