BEGIN:VCALENDAR
VERSION:2.0
PRODID:-//ChamberMaster//Event Calendar 2.0//EN
METHOD:PUBLISH
X-PUBLISHED-TTL:P3D
REFRESH-INTERVAL:P3D
CALSCALE:GREGORIAN
BEGIN:VEVENT
DTSTART:20180714T170000Z
DTEND:20180715T050000Z
X-MICROSOFT-CDO-ALLDAYEVENT:FALSE
SUMMARY:Relay for Life of Fairfield-Suisun City-Travis AFB
DESCRIPTION:Come support Relay for Life and the American Cancer Society in their mission to save lives\, celebrate lives and lead the fight to a world with out cancer!
X-ALT-DESC;FMTTYPE=text/html:Come support Relay for Life and the American Cancer Society in their mission to save lives\, celebrate lives and lead the fight to a world with out cancer!
LOCATION:Golden West Middle School 2651 De Ronde Dr\, Fairfield\, CA 94533
UID:e.1602.5549
SEQUENCE:3
DTSTAMP:20260425T032910Z
URL:https://business.fairfieldsuisunchamber.com/events/details/relay-for-life-of-fairfield-suisun-city-travis-afb-5549
END:VEVENT

END:VCALENDAR
