BEGIN:VCALENDAR
VERSION:2.0
PRODID:-//ChamberMaster//Event Calendar 2.0//EN
METHOD:PUBLISH
X-PUBLISHED-TTL:P3D
REFRESH-INTERVAL:P3D
CALSCALE:GREGORIAN
BEGIN:VEVENT
DTSTART:20181228T200000Z
DTEND:20190131T200000Z
X-MICROSOFT-CDO-ALLDAYEVENT:FALSE
SUMMARY:Resilience IPA Release
DESCRIPTION:Heretic Brewing Company is releasing Resilience IPA on Dec. 28th. 100% of draft and growler sales goes to the Camp Fire Victim's Relief Fund.
X-ALT-DESC;FMTTYPE=text/html:Heretic Brewing Company is releasing Resilience IPA on Dec. 28th. 100% of draft and growler sales goes to the Camp Fire Victim&#39\;s Relief Fund.
LOCATION:1052 Horizon Drive Fairfield CA 94533
UID:e.1602.6737
SEQUENCE:3
DTSTAMP:20260424T174709Z
URL:https://business.fairfieldsuisunchamber.com/events/details/resilience-ipa-release-6737
END:VEVENT

END:VCALENDAR
