BEGIN:VCALENDAR
VERSION:2.0
PRODID:-//ChamberMaster//Event Calendar 2.0//EN
METHOD:PUBLISH
X-PUBLISHED-TTL:P3D
REFRESH-INTERVAL:P3D
CALSCALE:GREGORIAN
BEGIN:VEVENT
DTSTART:20171117T020000Z
DTEND:20171117T040000Z
X-MICROSOFT-CDO-ALLDAYEVENT:FALSE
SUMMARY:Restaurant Series: How to Write a Business Plan
DESCRIPTION:All successful restaurateurs start with a well developed business plan that will be requested by any financial institution\, investor\, or landlord. The first half of the seminar will review the steps and organizational techniques needed to write a compelling plan for a restaurant that includes: Executive Summary articulating the core concept the importance of location sample menus history of owners understanding the target customer through demographics presenting a strong marketing plan by defining the business' positioning and niche through competitive analysis The instructor will then give an overview on how to put together the financials that accompany the written business plan. This includes the basics on how to project revenue\, creating a chart of accounts\, balance sheet and cash flow analysis. There will be plenty of time for Q&A. This is a must-take workshop for any budding restaurateur!
X-ALT-DESC;FMTTYPE=text/html:All successful restaurateurs start with a well developed business plan that will be requested by any financial institution\, investor\, or landlord. The first half of the seminar will review the steps and organizational techniques needed to write a compelling plan for a restaurant that includes: Executive Summary articulating the core concept the importance of location sample menus history of owners understanding the target customer through demographics presenting a strong marketing plan by defining the business&#39\; positioning and niche through competitive analysis The instructor will then give an overview on how to put together the financials that accompany the written business plan. This includes the basics on how to project revenue\, creating a chart of accounts\, balance sheet and cash flow analysis. There will be plenty of time for Q&amp\;A. This is a must-take workshop for any budding restaurateur!
LOCATION:Fairfield Cordelia Library 5050 Business Center Drive Fairfield
UID:e.1602.3810
SEQUENCE:3
DTSTAMP:20260425T164332Z
URL:https://business.fairfieldsuisunchamber.com/events/details/restaurant-series-how-to-write-a-business-plan-3810
END:VEVENT

END:VCALENDAR
