BEGIN:VCALENDAR
VERSION:2.0
PRODID:-//ChamberMaster//Event Calendar 2.0//EN
METHOD:PUBLISH
X-PUBLISHED-TTL:P3D
REFRESH-INTERVAL:P3D
CALSCALE:GREGORIAN
BEGIN:VEVENT
DTSTART:20210805T170000Z
DTEND:20210805T190000Z
X-MICROSOFT-CDO-ALLDAYEVENT:FALSE
SUMMARY:Ribbon Cutting: Budget Blinds
DESCRIPTION:Join the Fairfield-Suisun and the Vacaville Chambers of Commerce for a joint ribbon cutting celebrating the new showroom for Budget Blinds Fairfield/ Vacaville. \n\n\n\n"We have the best clients in the industry! It is an absolute privilege to go into someone's home and help them achieve what they didn't think was possible through window treatments!"\n\n\n\n- Toni Parkhurst\, Owner of Budget Blinds Fairfield & Vacaville
X-ALT-DESC;FMTTYPE=text/html:<span style="font-family: Oxygen\, sans-serif\; font-size: 16px\;">Join the Fairfield-Suisun and the Vacaville Chambers of Commerce for a joint ribbon cutting celebrating the new showroom for Budget Blinds Fairfield/ Vacaville.&nbsp\;</span><br style="box-sizing: border-box\; font-family: Oxygen\, sans-serif\; font-size: 16px\;" />\n<br style="box-sizing: border-box\; font-family: Oxygen\, sans-serif\; font-size: 16px\;" />\n<span style="font-family: Oxygen\, sans-serif\; font-size: 16px\;">&quot\;We have the best clients in the industry! It is an absolute privilege to go into someone&rsquo\;s home and help them achieve what they didn&rsquo\;t think was possible through window treatments!&quot\;</span><br style="box-sizing: border-box\; font-family: Oxygen\, sans-serif\; font-size: 16px\;" />\n<br style="box-sizing: border-box\; font-family: Oxygen\, sans-serif\; font-size: 16px\;" />\n<span style="font-family: Oxygen\, sans-serif\; font-size: 16px\;">- Toni Parkhurst\, Owner of Budget Blinds Fairfield &amp\; Vacaville</span>
LOCATION:57 Commerce Place\, Suite D Vacaville\, CA 95687
UID:e.1602.7502
SEQUENCE:3
DTSTAMP:20260422T163301Z
URL:https://business.fairfieldsuisunchamber.com/events/details/ribbon-cutting-budget-blinds-7502
END:VEVENT

END:VCALENDAR
