BEGIN:VCALENDAR
VERSION:2.0
PRODID:-//ChamberMaster//Event Calendar 2.0//EN
METHOD:PUBLISH
X-PUBLISHED-TTL:P3D
REFRESH-INTERVAL:P3D
CALSCALE:GREGORIAN
BEGIN:VEVENT
DTSTART:20170726T000000Z
DTEND:20170726T010000Z
X-MICROSOFT-CDO-ALLDAYEVENT:FALSE
SUMMARY:Ribbon Cutting: CEO Space
DESCRIPTION:Come Celebrate with the\n\nFairfield-Suisun Chamber of Commerce \n\n \n\nRibbon Cutting Ceremony \n\nfor\n\nCEO Space \n\n\n\nFairfield-Suisun Chamber of Commerce\n\n1111 Webster Street\n\nFairfield\, CA 94533\n\n\n\nTuesday\, July 25\, 2017\n\nfrom 5:00pm to 6:00pm\n\nRibbon Cutting 5:30pm
X-ALT-DESC;FMTTYPE=text/html:<div style="text-align: center\;"><span style="border:none windowtext 1.0pt\;padding:0in\;"><span style="color:#444444\;"><span style="font-family:inherit\,serif\;"><span style="font-size:20.0pt\;">Come Celebrate with the</span></span></span></span><br />\n<span style="border:none windowtext 1.0pt\;padding:0in\;"><span style="color:#444444\;"><span style="font-family:inherit\,serif\;"><span style="font-size:20.0pt\;">Fairfield-Suisun&nbsp\;Chamber of Commerce&nbsp\;</span></span></span></span><br />\n&nbsp\;<br />\n<strong><span style="border:none windowtext 1.0pt\;padding:0in\;"><span style="color:#444444\;"><span style="font-family:arial\,sans-serif\;"><span style="font-size:19.5pt\;">Ribbon Cutting Ceremony&nbsp\;</span></span></span></span></strong><br />\n<span style="border:none windowtext 1.0pt\;padding:0in\;"><span style="color:#444444\;"><span style="font-family:inherit\,serif\;"><span style="font-size:19.5pt\;">for</span></span></span></span><br />\n<span style="border:none windowtext 1.0pt\;padding:0in\;"><span style="color:#444444\;"><span style="font-family:inherit\,serif\;"><span style="font-size:27.0pt\;">CEO Space&nbsp\;</span></span></span></span><br />\n<br />\n<span style="border:none windowtext 1.0pt\;padding:0in\;"><span style="color:#444444\;"><span style="font-family:arial\,sans-serif\;"><span style="font-size:20.0pt\;">Fairfield-Suisun Chamber of Commerce</span></span></span></span><br />\n<span style="border:none windowtext 1.0pt\;padding:0in\;"><span style="color:#444444\;"><span style="font-family:arial\,sans-serif\;"><span style="font-size:20.0pt\;">1111 Webster Street</span></span></span></span><br />\n<span style="border:none windowtext 1.0pt\;padding:0in\;"><span style="color:#444444\;"><span style="font-family:arial\,sans-serif\;"><span style="font-size:20.0pt\;">Fairfield\, CA 94533</span></span></span></span><br />\n<br />\n<span style="border:none windowtext 1.0pt\;padding:0in\;"><span style="color:#444444\;"><span style="font-family:inherit\,serif\;"><span style="font-size:20.0pt\;">Tuesday\, July 25\, 2017</span></span></span></span><br />\n<span style="border:none windowtext 1.0pt\;padding:0in\;"><span style="color:#444444\;"><span style="font-family:inherit\,serif\;"><span style="font-size:20.0pt\;">from 5:00pm&nbsp\;to 6:00pm<br />\nRibbon Cutting 5:30pm</span></span></span></span></div>\n
LOCATION:Fairfield-Suisun Chamber of Commerce 1111 Webster Street Fairfield\, CA 94533
UID:e.1602.3562
SEQUENCE:3
DTSTAMP:20260425T231447Z
URL:https://business.fairfieldsuisunchamber.com/events/details/ribbon-cutting-ceo-space-3562
END:VEVENT

END:VCALENDAR
