BEGIN:VCALENDAR
VERSION:2.0
PRODID:-//ChamberMaster//Event Calendar 2.0//EN
METHOD:PUBLISH
X-PUBLISHED-TTL:P3D
REFRESH-INTERVAL:P3D
CALSCALE:GREGORIAN
BEGIN:VEVENT
DTSTART:20210827T180000Z
DTEND:20210827T190000Z
X-MICROSOFT-CDO-ALLDAYEVENT:FALSE
SUMMARY:Ribbon Cutting Ceremony: Trattoria Martone
DESCRIPTION:Join the Fairfield-Suisun Chamber of Commerce for the ribbon-cutting ceremony for the new Trattoria Martone.\n\nFriday\, August 27th\, 2021\n\nRibbon Cutting begins at 11am\n\nLunch- 11:30 am to 2:30 pm\n\nDinner- 4:30 pm to 10:00 pm\n\n1058 Horizon Dr. Fairfield\, CA 94533\n\nAbout Trattoria Martone:\n\n"We are a family-owned Italian restaurant. We offer classic regional Italian dishes that have made our cuisine and culture famous around the world. We source the best ingredients for our food\, drizzled with our unique touch. And... we make pizza\, baked in original Neapolitan Pizza Oven."
X-ALT-DESC;FMTTYPE=text/html:<div class="kvgmc6g5 cxmmr5t8 oygrvhab hcukyx3x c1et5uql" style="overflow-wrap: break-word\; margin: 0px\; font-family: &quot\;Segoe UI Historic&quot\;\, &quot\;Segoe UI&quot\;\, Helvetica\, Arial\, sans-serif\; color: rgb(5\, 5\, 5)\; font-size: 15px\; animation-name: none !important\; transition-property: none !important\;"><span style="font-size:14px\;"><span style="font-family:arial\;">Join the Fairfield-Suisun Chamber of Commerce for the ribbon-cutting ceremony for the new Trattoria Martone.</span></span></div>\n\n<div class="o9v6fnle cxmmr5t8 oygrvhab hcukyx3x c1et5uql" style="overflow-wrap: break-word\; margin: 0.5em 0px 0px\; font-family: &quot\;Segoe UI Historic&quot\;\, &quot\;Segoe UI&quot\;\, Helvetica\, Arial\, sans-serif\; color: rgb(5\, 5\, 5)\; font-size: 15px\; animation-name: none !important\; transition-property: none !important\;"><span style="font-size:14px\;"><span style="font-family:arial\;">Friday\, August 27th\, 2021<br style="animation-name: none !important\; transition-property: none !important\;" />\nRibbon Cutting begins at 11am<br style="animation-name: none !important\; transition-property: none !important\;" />\nLunch- 11:30 am to 2:30 pm<br style="animation-name: none !important\; transition-property: none !important\;" />\nDinner- 4:30 pm to 10:00 pm<br style="animation-name: none !important\; transition-property: none !important\;" />\n1058 Horizon Dr. Fairfield\, CA 94533</span></span></div>\n\n<div class="o9v6fnle cxmmr5t8 oygrvhab hcukyx3x c1et5uql" style="overflow-wrap: break-word\; margin: 0.5em 0px 0px\; font-family: &quot\;Segoe UI Historic&quot\;\, &quot\;Segoe UI&quot\;\, Helvetica\, Arial\, sans-serif\; color: rgb(5\, 5\, 5)\; font-size: 15px\; animation-name: none !important\; transition-property: none !important\;"><span style="font-size:14px\;"><span style="font-family:arial\;">About Trattoria Martone:<br style="animation-name: none !important\; transition-property: none !important\;" />\n&quot\;We are a family-owned Italian restaurant. We offer classic regional Italian dishes that have made our cuisine and culture famous around the world. We source the best ingredients for our food\, drizzled with our unique touch. And... we make pizza\, baked in original Neapolitan Pizza Oven.&quot\;</span></span></div>\n
LOCATION:1058 Horizon Dr. Fairfield\, CA 94533
UID:e.1602.7505
SEQUENCE:3
DTSTAMP:20260422T164818Z
URL:https://business.fairfieldsuisunchamber.com/events/details/ribbon-cutting-ceremony-trattoria-martone-7505
END:VEVENT

END:VCALENDAR
