BEGIN:VCALENDAR
VERSION:2.0
PRODID:-//ChamberMaster//Event Calendar 2.0//EN
METHOD:PUBLISH
X-PUBLISHED-TTL:P3D
REFRESH-INTERVAL:P3D
CALSCALE:GREGORIAN
BEGIN:VEVENT
DTSTART:20220113T000000Z
DTEND:20220113T013000Z
X-MICROSOFT-CDO-ALLDAYEVENT:FALSE
SUMMARY:Ribbon Cutting for Solano Transportation Authority's New Building
DESCRIPTION:The Solano Transportation Authority building is complete! Help us welcome them into its new home by attending the ribbon-cutting ceremony and move-in.
X-ALT-DESC;FMTTYPE=text/html:The Solano Transportation Authority building is complete! Help us welcome them into its new home by attending the ribbon-cutting ceremony and move-in.
LOCATION:423 Main Street Suisun City\, CA 94585
UID:e.1602.7530
SEQUENCE:3
DTSTAMP:20260422T084246Z
URL:https://business.fairfieldsuisunchamber.com/events/details/ribbon-cutting-for-solano-transportation-authority-s-new-building-7530
END:VEVENT

END:VCALENDAR
