BEGIN:VCALENDAR
VERSION:2.0
PRODID:-//ChamberMaster//Event Calendar 2.0//EN
METHOD:PUBLISH
X-PUBLISHED-TTL:P3D
REFRESH-INTERVAL:P3D
CALSCALE:GREGORIAN
BEGIN:VEVENT
DTSTART:20170729T040000Z
DTEND:20170729T050000Z
X-MICROSOFT-CDO-ALLDAYEVENT:FALSE
SUMMARY:Ribbon Cutting/Grand Opening: Sephora at JCPenney
DESCRIPTION:RIBBON CUTTING\n\nGRAND OPENING\n\n of Sephora inside JCPenney
X-ALT-DESC;FMTTYPE=text/html:<div style="text-align: center\;"><br />\n<span style="font-size:28px\;">RIBBON CUTTING<br />\nGRAND OPENING<br />\n&nbsp\;of Sephora&nbsp\;inside JCPenney</span></div>\n
LOCATION:Solano Town Center inside JCPenney 1330 Travis Blvd Fairfield\, CA 94533
UID:e.1602.3567
SEQUENCE:3
DTSTAMP:20260425T233346Z
URL:https://business.fairfieldsuisunchamber.com/events/details/ribbon-cutting-grand-opening-sephora-at-jcpenney-3567
END:VEVENT

END:VCALENDAR
