BEGIN:VCALENDAR
VERSION:2.0
PRODID:-//ChamberMaster//Event Calendar 2.0//EN
METHOD:PUBLISH
X-PUBLISHED-TTL:P3D
REFRESH-INTERVAL:P3D
CALSCALE:GREGORIAN
BEGIN:VEVENT
DTSTART:20180918T183000Z
DTEND:20180918T193000Z
X-MICROSOFT-CDO-ALLDAYEVENT:FALSE
SUMMARY:Ribbon-Cutting Hosted By Signal 88 Security
DESCRIPTION:
X-ALT-DESC;FMTTYPE=text/html:
LOCATION:Fairfield-Suisun Chamber of Commerce 1111 Webster St.\, Fairfield
UID:e.1602.6625
SEQUENCE:3
DTSTAMP:20260424T235647Z
URL:https://business.fairfieldsuisunchamber.com/events/details/ribbon-cutting-hosted-by-signal-88-security-6625
END:VEVENT

END:VCALENDAR
