BEGIN:VCALENDAR
VERSION:2.0
PRODID:-//ChamberMaster//Event Calendar 2.0//EN
METHOD:PUBLISH
X-PUBLISHED-TTL:P3D
REFRESH-INTERVAL:P3D
CALSCALE:GREGORIAN
BEGIN:VEVENT
DTSTART:20171115T000000Z
DTEND:20171115T023000Z
X-MICROSOFT-CDO-ALLDAYEVENT:FALSE
SUMMARY:Ribbon Cutting/Open House - Big 5 Sporting Goods
DESCRIPTION:Join the Fairfield-Suisun Chamber of Commerce\n\n\n\n for the \n\n\n\nBig 5 Sporting Goods Ribbon Cutting \n\n\n\nCelebration Kick Off With a Donation Presentation\n\nBenefiting the Fairfield-Suisun Unified School District\n\n\n\nSpecial In-Store Discounts\n\nRaffles\n\nRefreshments & Snacks
X-ALT-DESC;FMTTYPE=text/html:<div style="text-align: center\;"><br />\n<br />\n<span style="font-size:24px\;">Join the Fairfield-Suisun Chamber of Commerce</span><br />\n<br />\n<span style="font-size:18px\;">&nbsp\;for the </span><br />\n<br />\n<span style="font-size:26px\;"><strong>Big 5 Sporting Goods&nbsp\;<span style="color: rgb(51\, 51\, 51)\; font-family: sans-serif\, Arial\, Verdana\, &quot\;Trebuchet MS&quot\;\; text-align: center\; background-color: rgb(255\, 255\, 255)\;">Ribbon</span><span style="color: rgb(51\, 51\, 51)\; font-family: sans-serif\, Arial\, Verdana\, &quot\;Trebuchet MS&quot\;\; text-align: center\; background-color: rgb(255\, 255\, 255)\;"> Cutting</span><span style="color: rgb(51\, 51\, 51)\; font-family: sans-serif\, Arial\, Verdana\, &quot\;Trebuchet MS&quot\;\; text-align: center\; background-color: rgb(255\, 255\, 255)\;">&nbsp\;</span></strong></span><br />\n<br />\n<span style="font-size:18px\;">Celebration Kick Off With a Donation Presentation<br />\nBenefiting the Fairfield-Suisun&nbsp\;Unified School&nbsp\;District<br />\n<br />\nSpecial In-Store Discounts<br />\nRaffles<br />\nRefreshments &amp\; Snacks</span><br />\n&nbsp\;</div>\n
LOCATION:Big 5 Sporting Goods 1320 Gateway Blvd Fairfield\, CA 94533
UID:e.1602.3811
SEQUENCE:3
DTSTAMP:20260425T165152Z
URL:https://business.fairfieldsuisunchamber.com/events/details/ribbon-cutting-open-house-big-5-sporting-goods-3811
END:VEVENT

END:VCALENDAR
