BEGIN:VCALENDAR
VERSION:2.0
PRODID:-//ChamberMaster//Event Calendar 2.0//EN
METHOD:PUBLISH
X-PUBLISHED-TTL:P3D
REFRESH-INTERVAL:P3D
CALSCALE:GREGORIAN
BEGIN:VEVENT
DTSTART:20190828T230000Z
DTEND:20190829T010000Z
X-MICROSOFT-CDO-ALLDAYEVENT:FALSE
SUMMARY:Ribbon Cutting/Open House for Pacific Community Lender
DESCRIPTION:Ribbon Cutting/Open House for Pacific Community Lender\n\n\n\nJoin Pacific Community Lender and the Fairfield-Suisun Chamber for a ribbon cutting and open house!
X-ALT-DESC;FMTTYPE=text/html:<div style="text-align: center\;"><br />\n<span style="font-size:22px\;"><strong>Ribbon Cutting/Open House for Pacific Community Lender</strong></span><br />\n<br />\n<span style="font-size:16px\;">Join Pacific Community Lender and the Fairfield-Suisun Chamber for a ribbon cutting and open house!</span></div>\n
LOCATION:Fairfield-Suisun Chamber of Commerce 1111 Webster Street Fairfield\, CA 94533
UID:e.1602.7283
SEQUENCE:3
DTSTAMP:20260424T070117Z
URL:https://business.fairfieldsuisunchamber.com/events/details/ribbon-cutting-open-house-for-pacific-community-lender-7283
END:VEVENT

END:VCALENDAR
