BEGIN:VCALENDAR
VERSION:2.0
PRODID:-//ChamberMaster//Event Calendar 2.0//EN
METHOD:PUBLISH
X-PUBLISHED-TTL:P3D
REFRESH-INTERVAL:P3D
CALSCALE:GREGORIAN
BEGIN:VEVENT
DTSTART:20170715T003000Z
DTEND:20170715T023000Z
X-MICROSOFT-CDO-ALLDAYEVENT:FALSE
SUMMARY:Ribbon Cutting & Open House: Solano Land Trust
DESCRIPTION:Come Celebrate with the\n\nFairfield-Suisun Chamber of Commerce \n\n \n\nRibbon Cutting & Open House\n\nfor\n\nSolano Land Trust\n\nCast Iron Grill Courtyard\n\n700 Main Street\n\nSuisun\, CA 94585\n\n \n\n                                   Friday\, July 14th\n\nfrom 5:30pm to 7:30pm\n\nRibbon Cutting 6:00pm
X-ALT-DESC;FMTTYPE=text/html:<div style="text-align: center\;"><span style="font-family:arial\;"><span style="color: rgb(51\, 51\, 51)\; font-size: 13px\; text-align: center\; background-color: rgb(255\, 255\, 255)\; border: 1pt none windowtext\; padding: 0in\;"><span style="color: rgb(68\, 68\, 68)\;"><span style="font-size: 20pt\;">Come Celebrate with the</span></span></span><br style="color: rgb(51\, 51\, 51)\; font-family: sans-serif\, Arial\, Verdana\, &quot\;Trebuchet MS&quot\;\; font-size: 13px\; text-align: center\; background-color: rgb(255\, 255\, 255)\;" />\n<span style="color: rgb(51\, 51\, 51)\; font-size: 13px\; text-align: center\; background-color: rgb(255\, 255\, 255)\; border: 1pt none windowtext\; padding: 0in\;"><span style="color: rgb(68\, 68\, 68)\;"><span style="font-size: 20pt\;">Fairfield-Suisun&nbsp\;Chamber of Commerce&nbsp\;</span></span></span><br style="color: rgb(51\, 51\, 51)\; font-family: sans-serif\, Arial\, Verdana\, &quot\;Trebuchet MS&quot\;\; font-size: 13px\; text-align: center\; background-color: rgb(255\, 255\, 255)\;" />\n<span style="color: rgb(51\, 51\, 51)\; font-size: 13px\; text-align: center\; background-color: rgb(255\, 255\, 255)\;">&nbsp\;</span><br style="color: rgb(51\, 51\, 51)\; font-family: sans-serif\, Arial\, Verdana\, &quot\;Trebuchet MS&quot\;\; font-size: 13px\; text-align: center\; background-color: rgb(255\, 255\, 255)\;" />\n<strong style="color: rgb(51\, 51\, 51)\; font-family: sans-serif\, Arial\, Verdana\, &quot\;Trebuchet MS&quot\;\; font-size: 13px\; text-align: center\; background-color: rgb(255\, 255\, 255)\;"><span style="border: 1pt none windowtext\; padding: 0in\;"><span style="color: rgb(68\, 68\, 68)\;"><span style="font-size: 19.5pt\;">Ribbon Cutting &amp\; Open House</span></span></span></strong><br style="color: rgb(51\, 51\, 51)\; font-family: sans-serif\, Arial\, Verdana\, &quot\;Trebuchet MS&quot\;\; font-size: 13px\; text-align: center\; background-color: rgb(255\, 255\, 255)\;" />\n<span style="color: rgb(51\, 51\, 51)\; font-size: 13px\; text-align: center\; background-color: rgb(255\, 255\, 255)\; border: 1pt none windowtext\; padding: 0in\;"><span style="color: rgb(68\, 68\, 68)\;"><span style="font-size: 19.5pt\;">for</span></span></span><br style="color: rgb(51\, 51\, 51)\; font-family: sans-serif\, Arial\, Verdana\, &quot\;Trebuchet MS&quot\;\; font-size: 13px\; text-align: center\; background-color: rgb(255\, 255\, 255)\;" />\n<span style="color: rgb(51\, 51\, 51)\; font-size: 13px\; text-align: center\; background-color: rgb(255\, 255\, 255)\; border: 1pt none windowtext\; padding: 0in\;"><span style="color: rgb(68\, 68\, 68)\;"><span style="font-size: 27pt\;">Solano Land Trust</span></span></span></span></div>\n\n<div style="text-align: center\;"><span style="font-family:arial\;"><font color="#444444"><span style="font-size: 26.6667px\;">Cast Iron Grill Courtyard</span></font></span></div>\n\n<div style="text-align: center\;"><span style="font-family:arial\;"><span style="color: rgb(51\, 51\, 51)\; font-size: 13px\; text-align: center\; background-color: rgb(255\, 255\, 255)\; border: 1pt none windowtext\; padding: 0in\;"><span style="color: rgb(68\, 68\, 68)\;"><span style="font-size: 20pt\;">700 Main Street</span></span></span><br style="color: rgb(51\, 51\, 51)\; font-family: sans-serif\, Arial\, Verdana\, &quot\;Trebuchet MS&quot\;\; font-size: 13px\; text-align: center\; background-color: rgb(255\, 255\, 255)\;" />\n<span style="text-align: center\; background-color: rgb(255\, 255\, 255)\; border: 1pt none windowtext\; padding: 0in\;"><span style="color: rgb(68\, 68\, 68)\; font-size: 13px\;"><span style="font-size: 20pt\;">Suisun\, CA 94585</span></span></span></span><br />\n&nbsp\;</div>\n\n<div>&nbsp\;&nbsp\;&nbsp\;&nbsp\;&nbsp\;&nbsp\;&nbsp\;&nbsp\;&nbsp\;&nbsp\;&nbsp\;&nbsp\;&nbsp\;&nbsp\;&nbsp\;&nbsp\;&nbsp\;&nbsp\;&nbsp\;&nbsp\;&nbsp\;&nbsp\;&nbsp\;&nbsp\;&nbsp\;&nbsp\;&nbsp\;&nbsp\;&nbsp\;&nbsp\;&nbsp\;&nbsp\;&nbsp\;&nbsp\;&nbsp\;<span style="font-family:arial\;"><span style="text-align: center\; background-color: rgb(255\, 255\, 255)\; border: 1pt none windowtext\; padding: 0in\;"><font color="#444444"><span style="font-size: 26.6667px\;">Friday\, July 14th</span></font></span></span></div>\n\n<div style="text-align: center\;"><span style="font-family:arial\;"><span style="color: rgb(51\, 51\, 51)\; font-size: 13px\; text-align: center\; background-color: rgb(255\, 255\, 255)\; border: 1pt none windowtext\; padding: 0in\;"><span style="color: rgb(68\, 68\, 68)\;"><span style="font-size: 20pt\;">from 5:30pm&nbsp\;to 7:30pm<br />\nRibbon Cutting 6:00pm</span></span></span></span></div>\n\n<div style="text-align: center\;">&nbsp\;</div>\n
LOCATION:Cast Iron Grill Courtyard 700 Main Street Suisun\, CA 94585
UID:e.1602.3574
SEQUENCE:3
DTSTAMP:20260425T233249Z
URL:https://business.fairfieldsuisunchamber.com/events/details/ribbon-cutting-open-house-solano-land-trust-3574
END:VEVENT

END:VCALENDAR
