BEGIN:VCALENDAR
VERSION:2.0
PRODID:-//ChamberMaster//Event Calendar 2.0//EN
METHOD:PUBLISH
X-PUBLISHED-TTL:P3D
REFRESH-INTERVAL:P3D
CALSCALE:GREGORIAN
BEGIN:VEVENT
DTSTART:20171215T210000Z
DTEND:20171215T220000Z
X-MICROSOFT-CDO-ALLDAYEVENT:FALSE
SUMMARY:Ribbon Cutting/Open House - The Damascus House
DESCRIPTION:Join the Fairfield-Suisun Chamber of Commerce\n\n \n\n for the \n\n \n\nThe Damascus House
X-ALT-DESC;FMTTYPE=text/html:<div style="text-align: center\;"><br />\n<br />\n<span background:="" border-collapse:="" border-radius:="" border:="" box-shadow:="" height:="" left:="" line-height:="" margin:="" max-height:="" max-width:="" min-height:="" min-width:="" none="" opacity:="" open="" outline-offset:="" overflow:="" padding:="" position:="" resize:="" right:="" style="box-sizing: content-box\; bottom: auto\; clear: none\; color: rgb(68\, 68\, 68)\; content: normal\; direction: inherit\; empty-cells: show\; font-variant-numeric: inherit\; font-stretch: inherit\; font-size: 24px\; font-family: " table-layout:="" text-align:="" text-overflow:="" top:="" vertical-align:="" visibility:="" width:="" word-break:="" word-wrap:="" z-index:="">Join the Fairfield-Suisun Chamber of Commerce</span><br />\n&nbsp\;</div>\n\n<div style="text-align: center\;"><span style="font-size:22px\;"><span background:="" border-collapse:="" border-radius:="" border:="" box-shadow:="" height:="" left:="" line-height:="" margin:="" max-height:="" max-width:="" min-height:="" min-width:="" none="" opacity:="" open="" outline-offset:="" overflow:="" padding:="" position:="" resize:="" right:="" style="box-sizing: content-box\; bottom: auto\; clear: none\; color: rgb(68\, 68\, 68)\; content: normal\; direction: inherit\; empty-cells: show\; font-variant-numeric: inherit\; font-stretch: inherit\;" table-layout:="" text-align:="" text-overflow:="" top:="" vertical-align:="" visibility:="" width:="" word-break:="" word-wrap:="" z-index:="">&nbsp\;for the&nbsp\;</span></span></div>\n\n<div style="text-align: center\;">&nbsp\;</div>\n\n<div style="text-align: center\;"><span style="font-size:36px\;"><font color="#444444" face="open sans"><b>The Damascus House</b></font>&#8203\;</span></div>\n
LOCATION:The Damascus House 1513 Maryland Fairfield\, CA 94533
UID:e.1602.4089
SEQUENCE:3
DTSTAMP:20260425T151704Z
URL:https://business.fairfieldsuisunchamber.com/events/details/ribbon-cutting-open-house-the-damascus-house-4089
END:VEVENT

END:VCALENDAR
