BEGIN:VCALENDAR
VERSION:2.0
PRODID:-//ChamberMaster//Event Calendar 2.0//EN
METHOD:PUBLISH
X-PUBLISHED-TTL:P3D
REFRESH-INTERVAL:P3D
CALSCALE:GREGORIAN
BEGIN:VEVENT
DTSTART:20180802T233000Z
DTEND:20180803T003000Z
X-MICROSOFT-CDO-ALLDAYEVENT:FALSE
SUMMARY:Ribbon Cutting - Touch of Paradise Spa
DESCRIPTION:Come celebrate with us!  \n\n\n\nThe Fairfield-Suisun Chamber of Commerce\n\n& the Fairfield Main Street Association\n\n\n\nWould like to invite you to attend the \n\n\n\n Ribbon Cutting Ceremony \n\nfor\n\nTouch of Paradise Spa
X-ALT-DESC;FMTTYPE=text/html:<div style="text-align: center\;"><br />\n<span style="font-size:28px\;"><span style="font-family:comic sans ms\;"><em><span style="font-size:36px\;">Come celebrate with us!&nbsp\;&nbsp\;</span></em></span><br />\n<br />\nThe Fairfield-Suisun Chamber of Commerce<br />\n&amp\; the Fairfield Main Street Association<br />\n<br />\nWould like to invite you to attend the&nbsp\;<br />\n<br />\n<span style="font-size:36px\;"><strong>&nbsp\;Ribbon Cutting Ceremony&nbsp\;</strong><br />\n<span style="font-size:26px\;">for</span><br />\n<strong>Touch of Paradise Spa</strong></span></span></div>\n
LOCATION:Touch of Paradise Spa 950 Texas Street Fairfield\, CA 94533
UID:e.1602.6598
SEQUENCE:3
DTSTAMP:20260425T014044Z
URL:https://business.fairfieldsuisunchamber.com/events/details/ribbon-cutting-touch-of-paradise-spa-6598
END:VEVENT

END:VCALENDAR
