BEGIN:VCALENDAR
VERSION:2.0
PRODID:-//ChamberMaster//Event Calendar 2.0//EN
METHOD:PUBLISH
X-PUBLISHED-TTL:P3D
REFRESH-INTERVAL:P3D
CALSCALE:GREGORIAN
BEGIN:VEVENT
DTSTART:20191102T160000Z
DTEND:20191102T200000Z
X-MICROSOFT-CDO-ALLDAYEVENT:FALSE
SUMMARY:Ridge Trail Day
DESCRIPTION:12th Annual Ridge Trail Day 2019
X-ALT-DESC;FMTTYPE=text/html:&nbsp\; &nbsp\; &nbsp\; &nbsp\; &nbsp\; &nbsp\; &nbsp\; &nbsp\; &nbsp\; &nbsp\; &nbsp\; &nbsp\; &nbsp\; &nbsp\; &nbsp\; 12th Annual Ridge Trail Day 2019
LOCATION:The Ridge turned 30\, so get Dirty! On Saturday\, November 2\, hundreds of volunteers will join the Bay Area Ridge Trail Council\, RE! Co-op\, and our park and non-profit partners for the 12th annual Ridge Trail Day to celebrate and give back to the trail we love!
UID:e.1602.7377
SEQUENCE:3
DTSTAMP:20260424T021024Z
URL:https://business.fairfieldsuisunchamber.com/events/details/ridge-trail-day-7377
END:VEVENT

END:VCALENDAR
