BEGIN:VCALENDAR
VERSION:2.0
PRODID:-//ChamberMaster//Event Calendar 2.0//EN
METHOD:PUBLISH
X-PUBLISHED-TTL:P3D
REFRESH-INTERVAL:P3D
CALSCALE:GREGORIAN
BEGIN:VEVENT
DTSTART:20170524T013000Z
DTEND:20170524T033000Z
X-MICROSOFT-CDO-ALLDAYEVENT:FALSE
SUMMARY:Rodan+Fields Business Presentation\, featuring Senior Regional Manager\, Kelly Tarapani
DESCRIPTION:Join us for a Rodan + Fields  Business Presentation featuring a guest from the R+F Home Office\, Kelly Tarapani\, as well as local leaders. Learn more about the brand\, products\, and how you can redefine your future by launching your own business on your own terms. Discover what's possible when you combine acclaimed global leaders in skincare with an innovative business model and clinically proven anti-aging products. Create your own journey with R+F's Life-Changing Skincare .
X-ALT-DESC;FMTTYPE=text/html:<span style="color:rgb(102\, 106\, 115)\; font-family:benton sans\,helvetica neue\,helvetica\,roboto\,arial\,sans-serif\; font-size:15px">Join us for a&nbsp\;</span><span style="color:rgb(102\, 106\, 115)\; font-family:benton sans\,helvetica neue\,helvetica\,roboto\,arial\,sans-serif\; font-size:15px">Rodan + Fields&reg\;</span><span style="color:rgb(102\, 106\, 115)\; font-family:benton sans\,helvetica neue\,helvetica\,roboto\,arial\,sans-serif\; font-size:15px">&nbsp\;Business Presentation featuring a guest from the R+F Home Office\, Kelly Tarapani\, as well as local leaders. Learn more about the brand\, products\, and how you can redefine your future by launching your own business on your own terms. Discover what&rsquo\;s possible when you combine acclaimed global leaders in skincare with an innovative business model and clinically proven anti-aging products. Create your own journey with R+F&rsquo\;s Life-Changing Skincare</span><span style="color:rgb(102\, 106\, 115)\; font-family:benton sans\,helvetica neue\,helvetica\,roboto\,arial\,sans-serif\; font-size:15px">&trade\;</span><span style="color:rgb(102\, 106\, 115)\; font-family:benton sans\,helvetica neue\,helvetica\,roboto\,arial\,sans-serif\; font-size:15px">.</span>
LOCATION:Clubhouse at Paradise Valley 3990 Paradise Valley Drive Fairfield\, CA 94533
UID:e.1602.3514
SEQUENCE:3
DTSTAMP:20260426T024034Z
URL:https://business.fairfieldsuisunchamber.com/events/details/rodan-fields-business-presentation-featuring-senior-regional-manager-kelly-tarapani-3514
END:VEVENT

END:VCALENDAR
