BEGIN:VCALENDAR
VERSION:2.0
PRODID:-//ChamberMaster//Event Calendar 2.0//EN
METHOD:PUBLISH
X-PUBLISHED-TTL:P3D
REFRESH-INTERVAL:P3D
CALSCALE:GREGORIAN
BEGIN:VEVENT
DTSTART:20171213T023000Z
DTEND:20171213T040000Z
X-MICROSOFT-CDO-ALLDAYEVENT:FALSE
SUMMARY:Rodan+Fields ~ The Brand. The Products. The Opportunity.
DESCRIPTION:Join us for a Rodan + Fields Business Presentation featuring local leaders. Hear how you can redefine your future by launching your own business on your own terms. Discover what's possible when you combine acclaimed global leaders in skincare with an innovative business model and clinically proven anti-aging products. Create your own journey with R+F's Life-Changing Skincare .\n\nJoin us in giving back and bring in a coat\, toy\, or giftcard for donation!  They will be donated to those in need and you will be entered into raffle for a free product!\n\nALL guests are FREE.
X-ALT-DESC;FMTTYPE=text/html:<p>Join us for a&nbsp\;Rodan + Fields&reg\;Business Presentation featuring local leaders. Hear how you can redefine your future by launching your own business on your own terms. Discover what&rsquo\;s possible when you combine acclaimed global leaders in skincare with an innovative business model and clinically proven anti-aging products. Create your own journey with R+F&rsquo\;s Life-Changing Skincare&trade\;.</p>\n\n<p>Join us in giving back and bring in a coat\, toy\, or giftcard for donation! &nbsp\;They will be donated to those in need and you will be entered into raffle for a free product!</p>\n\n<p>ALL guests are FREE.</p>\n
LOCATION:Clubhouse At Paradise Valley 3990 Paradise Valley Drive Fairfield\, CA 94533
UID:e.1602.4090
SEQUENCE:3
DTSTAMP:20260425T151721Z
URL:https://business.fairfieldsuisunchamber.com/events/details/rodan-fields-the-brand-the-products-the-opportunity-4090
END:VEVENT

END:VCALENDAR
