BEGIN:VCALENDAR
VERSION:2.0
PRODID:-//ChamberMaster//Event Calendar 2.0//EN
METHOD:PUBLISH
X-PUBLISHED-TTL:P3D
REFRESH-INTERVAL:P3D
CALSCALE:GREGORIAN
BEGIN:VEVENT
DTSTART;VALUE=DATE:20170617
DTEND;VALUE=DATE:20170618
TRANSP:TRANSPARENT
X-MICROSOFT-CDO-ALLDAYEVENT:TRUE
SUMMARY:Rubicon returns to Seven Artisans Winery this Saturday
DESCRIPTION:Saturday\, June 17th  \n\n \n\n2:00 - 5:00 PM\n\n \n\nSeven Artisans Winery \n\nPresents the Rocking Sounds of \n\n \n\nRUBICON\n\n \n\n$10 cover includes one glass of First Flight wine\n\n \n\nNo outside food or alcohol\, please\n\n \n\nSeven Artisans Winery\n\n4341 Abernathy Road\n\nFairfield\, CA\n\n(707) 771-0911\n\n \n\n\n"We'll see you on the lawn"
X-ALT-DESC;FMTTYPE=text/html:<div>\n<div style="text-align: center\;"><strong><em>Saturday\,&nbsp\;June 17th&nbsp\; </em></strong></div>\n\n<div style="text-align: center\;">&nbsp\;</div>\n\n<div style="text-align: center\;"><strong><em>2:00 - 5:00 PM</em></strong></div>\n\n<div style="text-align: center\;">&nbsp\;</div>\n\n<div style="text-align: center\;"><strong>Seven Artisans Winery </strong></div>\n\n<div style="text-align: center\;"><strong><em>Presents the&nbsp\;Rocking Sounds of </em></strong></div>\n\n<div style="text-align: center\;"><strong>&nbsp\;</strong></div>\n\n<div style="text-align: center\;"><strong><em>RUBICON</em></strong></div>\n\n<div style="text-align: center\;">&nbsp\;</div>\n\n<div style="text-align: center\;"><strong>$10 cover includes one glass of First Flight wine</strong></div>\n\n<div style="text-align: center\;">&nbsp\;</div>\n\n<div style="text-align: center\;"><strong>No outside&nbsp\;food or alcohol\, please<br />\n&nbsp\;<br />\nSeven Artisans Winery<br />\n4341 Abernathy Road<br />\nFairfield\, CA</strong></div>\n\n<div style="text-align: center\;"><strong>(707) 771-0911</strong></div>\n\n<div style="text-align: center\;"><strong>&nbsp\;</strong></div>\n</div>\n\n<div style="text-align: center\;"><strong><em>&quot\;We&#39\;ll see you on the lawn&quot\;</em></strong><br />\n<strong>&nbsp\;</strong></div>\n
LOCATION:Seven Artisans Winery 4341 Abernathy Road Fairfield
UID:e.1602.3544
SEQUENCE:3
DTSTAMP:20260426T005422Z
URL:https://business.fairfieldsuisunchamber.com/events/details/rubicon-returns-to-seven-artisans-winery-this-saturday-3544
END:VEVENT

END:VCALENDAR
