BEGIN:VCALENDAR
VERSION:2.0
PRODID:-//ChamberMaster//Event Calendar 2.0//EN
METHOD:PUBLISH
X-PUBLISHED-TTL:P3D
REFRESH-INTERVAL:P3D
CALSCALE:GREGORIAN
BEGIN:VEVENT
DTSTART:20191022T200000Z
DTEND:20191022T210000Z
X-MICROSOFT-CDO-ALLDAYEVENT:FALSE
SUMMARY:Sem Yeto Tour
DESCRIPTION:Sem Yeto Tour
X-ALT-DESC;FMTTYPE=text/html:Sem Yeto Tour&nbsp\;<br />\n&nbsp\;
LOCATION:205 E. Atlantic Ave\, Fairfield\, CA 94533
UID:e.1602.7368
SEQUENCE:3
DTSTAMP:20260424T040250Z
URL:https://business.fairfieldsuisunchamber.com/events/details/sem-yeto-tour-7368
END:VEVENT

END:VCALENDAR
