BEGIN:VCALENDAR
VERSION:2.0
PRODID:-//ChamberMaster//Event Calendar 2.0//EN
METHOD:PUBLISH
X-PUBLISHED-TTL:P3D
REFRESH-INTERVAL:P3D
CALSCALE:GREGORIAN
BEGIN:VEVENT
DTSTART:20170916T210000Z
DTEND:20170917T000000Z
X-MICROSOFT-CDO-ALLDAYEVENT:FALSE
SUMMARY:Seven Artisans Winery Proudly Presents - The Charlie Wade Blues Band
DESCRIPTION:Residents of Solano County\, these talented gentlemen have been playing as independent musicians\, for many years. They combined their talents to form "The Charlie Wade Blues Band" as a 5-piece ensemble about 12 years ago. The list of their songs include mainly old blues done by Jimmy Rogders\, Paul Butterfield\, Mark Ford\, Little Walters\, Kim Wilson\, Muddy Waters \, and many more.\n\n \n\nBand Members\n\nMark Sackett & John Alonso - Guitar Players \n\nJay Campo - Bass Player \n\nDante Carrasco - Drummer \n\nCharlie Wade - Founder\, singer & harp player
X-ALT-DESC;FMTTYPE=text/html:<em><span style="font-size:14.0pt">Residents of Solano County</span></em><strong><em><span style="font-size:12.0pt">\,</span></em></strong><span style="font-size:12.0pt"> these talented gentlemen have been playing as independent musicians\, for many years. They combined their talents to form &ldquo\;The Charlie Wade Blues Band&rdquo\; as a 5-piece ensemble about 12 years ago. The list of their songs include mainly old blues done by Jimmy Rogders\, Paul Butterfield\, Mark Ford\, Little Walters\, Kim Wilson\, Muddy Waters \, and many more.</span><br />\n&nbsp\;<br />\n<strong><u><span style="font-size:12.0pt">Band Members</span></u></strong><br />\n<span style="font-size:12.0pt">Mark Sackett &amp\; John Alonso - Guitar Players </span><br />\n<span style="font-size:12.0pt">Jay Campo - Bass Player </span><br />\n<span style="font-size:12.0pt">Dante Carrasco - Drummer </span><br />\n<span style="font-size:12.0pt">Charlie Wade - Founder\, singer &amp\; harp player</span>
LOCATION:Seven Artisans Winery 4341 Abernathy Road Fairfield\, CA 94534 (707)771-0911 / (707)330-3806
UID:e.1602.3601
SEQUENCE:3
DTSTAMP:20260425T203031Z
URL:https://business.fairfieldsuisunchamber.com/events/details/seven-artisans-winery-proudly-presents-the-charlie-wade-blues-band-3601
END:VEVENT

END:VCALENDAR
