BEGIN:VCALENDAR
VERSION:2.0
PRODID:-//ChamberMaster//Event Calendar 2.0//EN
METHOD:PUBLISH
X-PUBLISHED-TTL:P3D
REFRESH-INTERVAL:P3D
CALSCALE:GREGORIAN
BEGIN:VEVENT
DTSTART;VALUE=DATE:20250609
DTEND;VALUE=DATE:20250929
TRANSP:TRANSPARENT
X-MICROSOFT-CDO-ALLDAYEVENT:TRUE
SUMMARY:SF Giants Fundraiser – Support Solano Families at the Ballpark
DESCRIPTION:Take your team out to the ballgame and support a meaningful cause while you're at it! Solano Family & Children's Services invites local businesses and community members to attend a San Francisco Giants game this season using our special fundraiser link.\n\n$5 from every ticket sold is donated to SFCS\, helping us provide child care resources\, parenting support\, and early learning connections for families throughout Solano County.\n\nWhether you're treating staff\, thanking clients\, or looking for a fun outing with family and friends this is a chance to make memories and make an impact.\n\nVenue: Oracle Park\, 24 Willie Mays Plaza\, San Francisco\, CA\n\nPurchase tickets at: https://fevo-enterprise.com/group/solanofamily2025\n\nLet's knock it out of the park for Solano families!
X-ALT-DESC;FMTTYPE=text/html:<p>Take your team out to the ballgame and support a meaningful cause while you&#39\;re at it! Solano Family &amp\; Children&rsquo\;s Services invites local businesses and community members to attend a San Francisco Giants game this season using our special fundraiser link.</p>\n\n<p><strong>$5 from every ticket sold is donated to SFCS</strong>\, helping us provide child care resources\, parenting support\, and early learning connections for families throughout Solano County.</p>\n\n<p>Whether you&#39\;re treating staff\, thanking clients\, or looking for a fun outing with family and friends&mdash\;this is a chance to make memories <em>and</em> make an impact.</p>\n\n<p><strong>Venue:</strong> Oracle Park\, 24 Willie Mays Plaza\, San Francisco\, CA<br />\n<strong>Purchase tickets at:</strong> https://fevo-enterprise.com/group/solanofamily2025</p>\n\n<p>Let&rsquo\;s knock it out of the park for Solano families!</p>\n
LOCATION:Oracle Park 24 Willie Mays Plaza San Francisco\, CA 94107
UID:e.1602.9319
SEQUENCE:3
DTSTAMP:20260420T161145Z
URL:https://business.fairfieldsuisunchamber.com/events/details/sf-giants-fundraiser-support-solano-families-at-the-ballpark-9319
END:VEVENT

END:VCALENDAR
