BEGIN:VCALENDAR
VERSION:2.0
PRODID:-//ChamberMaster//Event Calendar 2.0//EN
METHOD:PUBLISH
X-PUBLISHED-TTL:P3D
REFRESH-INTERVAL:P3D
CALSCALE:GREGORIAN
BEGIN:VEVENT
DTSTART:20191020T010000Z
DTEND:20191020T063000Z
X-MICROSOFT-CDO-ALLDAYEVENT:FALSE
SUMMARY:SHCC 12th Annual Awards & Recognition Gala
DESCRIPTION:Join us to celebrate our 12th Annual Awards & Recognition Gala "Inspire Learning". This event brings together some of the top local businesses and organizations in Solano County.The event includes the honor and recognition of the 2019 Scholarship Recipients\, 2019 Business Honorees\, entertainment\, dinner\, silent / live auction\, and much more! Acomp  enos para celebrar nuestra Duod cima Gala Anual de Premios y Reconocimiento "Inspire Learning". Este evento re ne a algunas de las principales empresas y organizaciones locales en el condado de Solano. El evento incluye el honor y el reconocimiento de los beneficiarios de becas de 2019\, homenajeados de negocios de 2019\, entretenimiento\, cena\, subasta silenciosa / en vivo\,  y mucho m s!
X-ALT-DESC;FMTTYPE=text/html:Join us to celebrate our 12th Annual Awards &amp\; Recognition Gala &quot\;Inspire Learning&quot\;. This event brings together some of the top local businesses and organizations in Solano County.The event includes the honor and recognition of the 2019 Scholarship Recipients\, 2019 Business Honorees\, entertainment\, dinner\, silent / live auction\, and much more! Acomp&aacute\;&ntilde\;enos para celebrar nuestra Duod&eacute\;cima Gala Anual de Premios y Reconocimiento &quot\;Inspire Learning&quot\;. Este evento re&uacute\;ne a algunas de las principales empresas y organizaciones locales en el condado de Solano. El evento incluye el honor y el reconocimiento de los beneficiarios de becas de 2019\, homenajeados de negocios de 2019\, entretenimiento\, cena\, subasta silenciosa / en vivo\, &iexcl\;y mucho m&aacute\;s!
LOCATION:Hilton Garden Inn 2200 Gateway Ct. Fairfield\, CA
UID:e.1602.7346
SEQUENCE:3
DTSTAMP:20260424T040412Z
URL:https://business.fairfieldsuisunchamber.com/events/details/shcc-12th-annual-awards-recognition-gala-7346
END:VEVENT

END:VCALENDAR
