BEGIN:VCALENDAR
VERSION:2.0
PRODID:-//ChamberMaster//Event Calendar 2.0//EN
METHOD:PUBLISH
X-PUBLISHED-TTL:P3D
REFRESH-INTERVAL:P3D
CALSCALE:GREGORIAN
BEGIN:VEVENT
DTSTART:20201118T010000Z
DTEND:20201118T020000Z
X-MICROSOFT-CDO-ALLDAYEVENT:FALSE
SUMMARY:SHCC Virtual Chat: A Presentation from MCE - 2021 expansion plan in Solano County for clean and renewable energy sources
DESCRIPTION:A Presentation from MCE - 2021 expansion plan in Solano County for clean and renewable energy sources Join us for a presentation from MCE   a local\, not for profit electricity provider that gives customers the choice of having 60% or 100% of their power come from clean\, renewable sources. MCE currently serves 20\,000 customers in Solano County\, and will be enrolling the City of Vallejo in MCE service in April 2021. Come learn about your renewable energy options\, as well as customer programs and offerings available through MCE! Time: Nov 17\, 2020 05:00 PM Pacific Time (US and Canada) Register at https://bit.ly/3ezjxn2
X-ALT-DESC;FMTTYPE=text/html:A Presentation from MCE - 2021 expansion plan in Solano County for clean and renewable energy sources Join us for a presentation from MCE &ndash\; a local\, not for profit electricity provider that gives customers the choice of having 60% or 100% of their power come from clean\, renewable sources. MCE currently serves 20\,000 customers in Solano County\, and will be enrolling the City of Vallejo in MCE service in April 2021. Come learn about your renewable energy options\, as well as customer programs and offerings available through MCE! Time: Nov 17\, 2020 05:00 PM Pacific Time (US and Canada) Register at https://bit.ly/3ezjxn2
LOCATION:Online - Register at https://bit.ly/3ezjxn2
UID:e.1602.7488
SEQUENCE:3
DTSTAMP:20260423T073528Z
URL:https://business.fairfieldsuisunchamber.com/events/details/shcc-virtual-chat-a-presentation-from-mce-2021-expansion-plan-in-solano-county-for-clean-and-renewable-energy-sources-7488
END:VEVENT

END:VCALENDAR
