BEGIN:VCALENDAR
VERSION:2.0
PRODID:-//ChamberMaster//Event Calendar 2.0//EN
METHOD:PUBLISH
X-PUBLISHED-TTL:P3D
REFRESH-INTERVAL:P3D
CALSCALE:GREGORIAN
BEGIN:VEVENT
DTSTART:20200131T003000Z
DTEND:20200131T030000Z
X-MICROSOFT-CDO-ALLDAYEVENT:FALSE
SUMMARY:Solano County Diverse Educator Network Meeting
DESCRIPTION:Become part of outreach activities to attract future teachers from diverse backgrounds.  Bring your energy\, ideas\, and commitment to launch our working group!
X-ALT-DESC;FMTTYPE=text/html:Become part of outreach activities to attract future teachers from diverse backgrounds.&nbsp\; Bring your energy\, ideas\, and commitment to launch our working group!
LOCATION:Solano County Office of Education 5100 Business Center Dr. Fairfield\, CA 94534
UID:e.1602.7432
SEQUENCE:3
DTSTAMP:20260423T233059Z
URL:https://business.fairfieldsuisunchamber.com/events/details/solano-county-diverse-educator-network-meeting-7432
END:VEVENT

END:VCALENDAR
