BEGIN:VCALENDAR
VERSION:2.0
PRODID:-//ChamberMaster//Event Calendar 2.0//EN
METHOD:PUBLISH
X-PUBLISHED-TTL:P3D
REFRESH-INTERVAL:P3D
CALSCALE:GREGORIAN
BEGIN:VEVENT
DTSTART:20221022T153000Z
DTEND:20221022T183000Z
X-MICROSOFT-CDO-ALLDAYEVENT:FALSE
SUMMARY:Solano County Walk to End Alzheimer's
DESCRIPTION:The Alzheimer's Association Solano County Walk to End Alzheimer's is set for Saturday\, October 22\, 2022 at Harbor Plaza in Suisun City. This inspiring event brings community together to raise awareness and funds for Alzheimer's and dementia care\, support and research. Learn more and register at https://act.alz.org/solanocounty. Or\, if you or a loved one needs support\, the Association helpline is available 24/7 - call 800-272-3900 any time night or day.
X-ALT-DESC;FMTTYPE=text/html:<span style="color:rgb(34\, 34\, 34)\; font-family:arial\,helvetica\,sans-serif\; font-size:small">The Alzheimer&#39\;s Association Solano County Walk to End Alzheimer&#39\;s is set for Saturday\, October 22\, 2022 at Harbor Plaza in Suisun City. This inspiring event brings community together to raise awareness and funds for Alzheimer&#39\;s and dementia care\, support and research. Learn more and register at&nbsp\;</span><a href="https://act.alz.org/solanocounty">https://act.alz.org/solanocounty</a><span style="color:rgb(34\, 34\, 34)\; font-family:arial\,helvetica\,sans-serif\; font-size:small">. Or\, if you or a loved one needs support\, the Association helpline is available 24/7 - call 800-272-3900 any time night or day.</span>
LOCATION:Harbor Plaza\, Suisun City
UID:e.1602.7803
SEQUENCE:3
DTSTAMP:20260421T151458Z
URL:https://business.fairfieldsuisunchamber.com/events/details/solano-county-walk-to-end-alzheimer-s-7803
END:VEVENT

END:VCALENDAR
